BEGIN:VCALENDAR
VERSION:2.0
PRODID:-//The Derby Tavern - ECPv6.15.17//NONSGML v1.0//EN
CALSCALE:GREGORIAN
METHOD:PUBLISH
X-WR-CALNAME:The Derby Tavern
X-ORIGINAL-URL:https://thederbytavern.com
X-WR-CALDESC:Events for The Derby Tavern
REFRESH-INTERVAL;VALUE=DURATION:PT1H
X-Robots-Tag:noindex
X-PUBLISHED-TTL:PT1H
BEGIN:VTIMEZONE
TZID:America/Detroit
BEGIN:DAYLIGHT
TZOFFSETFROM:-0500
TZOFFSETTO:-0400
TZNAME:EDT
DTSTART:20260308T070000
END:DAYLIGHT
BEGIN:STANDARD
TZOFFSETFROM:-0400
TZOFFSETTO:-0500
TZNAME:EST
DTSTART:20261101T060000
END:STANDARD
BEGIN:DAYLIGHT
TZOFFSETFROM:-0500
TZOFFSETTO:-0400
TZNAME:EDT
DTSTART:20270314T070000
END:DAYLIGHT
BEGIN:STANDARD
TZOFFSETFROM:-0400
TZOFFSETTO:-0500
TZNAME:EST
DTSTART:20271107T060000
END:STANDARD
BEGIN:DAYLIGHT
TZOFFSETFROM:-0500
TZOFFSETTO:-0400
TZNAME:EDT
DTSTART:20280312T070000
END:DAYLIGHT
BEGIN:STANDARD
TZOFFSETFROM:-0400
TZOFFSETTO:-0500
TZNAME:EST
DTSTART:20281105T060000
END:STANDARD
END:VTIMEZONE
BEGIN:VEVENT
DTSTART;TZID=America/Detroit:20270930T150000
DTEND;TZID=America/Detroit:20270930T170000
DTSTAMP:20260424T001503
CREATED:20260401T212759Z
LAST-MODIFIED:20260403T180750Z
UID:10001161-1822316400-1822323600@thederbytavern.com
SUMMARY:Unwind With Us - Thursday Happy Hour
DESCRIPTION:Unwind With Us every Thursday afternoon! Enjoy $1 off drafts and $2 off wine\, plus our Thursday features: Arancini ($12) and a Whirlaway Manhattan ($9).
URL:https://thederbytavern.com/event/unwind-with-us-thursday-happy-hour/2027-09-30/
LOCATION:The Derby Tavern\, 3686 32nd Ave Ste 300\, Hudsonville\, MI\, 49426\, United States
CATEGORIES:Happy Hour
ATTACH;FMTTYPE=image/png:https://thederbytavern.com/wp-content/uploads/2026/04/Screenshot-2026-04-03-at-14.03.31.png
ORGANIZER;CN="The Derby Tavern":MAILTO:info@thederbytavern.com
END:VEVENT
BEGIN:VEVENT
DTSTART;TZID=America/Detroit:20270930T200000
DTEND;TZID=America/Detroit:20270930T220000
DTSTAMP:20260424T001503
CREATED:20260401T212842Z
LAST-MODIFIED:20260402T180252Z
UID:10001422-1822334400-1822341600@thederbytavern.com
SUMMARY:Unwind With Us - Thursday Late Night
DESCRIPTION:Unwind With Us every Thursday evening! Enjoy $1 off drafts and $2 off wine\, plus our Thursday features: Arancini ($12) and a Whirlaway Manhattan ($9).
URL:https://thederbytavern.com/event/unwind-with-us-thursday-late-night/2027-09-30/
LOCATION:The Derby Tavern\, 3686 32nd Ave Ste 300\, Hudsonville\, MI\, 49426\, United States
CATEGORIES:Happy Hour
ORGANIZER;CN="The Derby Tavern":MAILTO:info@thederbytavern.com
END:VEVENT
BEGIN:VEVENT
DTSTART;TZID=America/Detroit:20271005T150000
DTEND;TZID=America/Detroit:20271005T170000
DTSTAMP:20260424T001503
CREATED:20260401T211930Z
LAST-MODIFIED:20260403T180651Z
UID:10000116-1822748400-1822755600@thederbytavern.com
SUMMARY:Unwind With Us - Tuesday Happy Hour
DESCRIPTION:Unwind With Us every Tuesday afternoon! Enjoy $1 off drafts and $2 off wine\, plus our Tuesday features: Nachos ($12) and a Mustang Margarita ($8).
URL:https://thederbytavern.com/event/unwind-with-us-tuesday-happy-hour/2027-10-05/
LOCATION:The Derby Tavern\, 3686 32nd Ave Ste 300\, Hudsonville\, MI\, 49426\, United States
CATEGORIES:Happy Hour
ATTACH;FMTTYPE=image/png:https://thederbytavern.com/wp-content/uploads/2026/04/Screenshot-2026-04-03-at-14.03.31.png
ORGANIZER;CN="The Derby Tavern":MAILTO:info@thederbytavern.com
END:VEVENT
BEGIN:VEVENT
DTSTART;TZID=America/Detroit:20271005T200000
DTEND;TZID=America/Detroit:20271005T220000
DTSTAMP:20260424T001503
CREATED:20260401T212408Z
LAST-MODIFIED:20260403T180620Z
UID:10000378-1822766400-1822773600@thederbytavern.com
SUMMARY:Unwind With Us - Tuesday Late Night
DESCRIPTION:Unwind With Us every Tuesday evening! Enjoy $1 off drafts and $2 off wine\, plus our Tuesday features: Nachos ($12) and a Mustang Margarita ($8).
URL:https://thederbytavern.com/event/unwind-with-us-tuesday-late-night/2027-10-05/
LOCATION:The Derby Tavern\, 3686 32nd Ave Ste 300\, Hudsonville\, MI\, 49426\, United States
CATEGORIES:Happy Hour
ATTACH;FMTTYPE=image/png:https://thederbytavern.com/wp-content/uploads/2026/04/Screenshot-2026-04-03-at-14.03.31.png
ORGANIZER;CN="The Derby Tavern":MAILTO:info@thederbytavern.com
END:VEVENT
BEGIN:VEVENT
DTSTART;TZID=America/Detroit:20271006T150000
DTEND;TZID=America/Detroit:20271006T170000
DTSTAMP:20260424T001503
CREATED:20260401T212458Z
LAST-MODIFIED:20260403T180944Z
UID:10000640-1822834800-1822842000@thederbytavern.com
SUMMARY:Unwind With Us - Wednesday Happy Hour
DESCRIPTION:Unwind With Us every Wednesday afternoon! Enjoy $1 off drafts and $2 off wine\, plus our Wednesday features: Harissa Shrimp ($14) and a Big Joe ($10).
URL:https://thederbytavern.com/event/unwind-with-us-wednesday-happy-hour/2027-10-06/
LOCATION:The Derby Tavern\, 3686 32nd Ave Ste 300\, Hudsonville\, MI\, 49426\, United States
CATEGORIES:Happy Hour
ATTACH;FMTTYPE=image/png:https://thederbytavern.com/wp-content/uploads/2026/04/Screenshot-2026-04-03-at-14.03.31.png
ORGANIZER;CN="The Derby Tavern":MAILTO:info@thederbytavern.com
END:VEVENT
BEGIN:VEVENT
DTSTART;TZID=America/Detroit:20271006T200000
DTEND;TZID=America/Detroit:20271006T220000
DTSTAMP:20260424T001503
CREATED:20260401T212703Z
LAST-MODIFIED:20260403T180904Z
UID:10000901-1822852800-1822860000@thederbytavern.com
SUMMARY:Unwind With Us - Wednesday Late Night
DESCRIPTION:Unwind With Us every Wednesday evening! Enjoy $1 off drafts and $2 off wine\, plus our Wednesday features: Harissa Shrimp ($14) and a Big Joe ($10).
URL:https://thederbytavern.com/event/unwind-with-us-wednesday-late-night/2027-10-06/
LOCATION:The Derby Tavern\, 3686 32nd Ave Ste 300\, Hudsonville\, MI\, 49426\, United States
CATEGORIES:Happy Hour
ATTACH;FMTTYPE=image/png:https://thederbytavern.com/wp-content/uploads/2026/04/Screenshot-2026-04-03-at-14.03.31.png
ORGANIZER;CN="The Derby Tavern":MAILTO:info@thederbytavern.com
END:VEVENT
BEGIN:VEVENT
DTSTART;TZID=America/Detroit:20271007T150000
DTEND;TZID=America/Detroit:20271007T170000
DTSTAMP:20260424T001503
CREATED:20260401T212759Z
LAST-MODIFIED:20260403T180750Z
UID:10001162-1822921200-1822928400@thederbytavern.com
SUMMARY:Unwind With Us - Thursday Happy Hour
DESCRIPTION:Unwind With Us every Thursday afternoon! Enjoy $1 off drafts and $2 off wine\, plus our Thursday features: Arancini ($12) and a Whirlaway Manhattan ($9).
URL:https://thederbytavern.com/event/unwind-with-us-thursday-happy-hour/2027-10-07/
LOCATION:The Derby Tavern\, 3686 32nd Ave Ste 300\, Hudsonville\, MI\, 49426\, United States
CATEGORIES:Happy Hour
ATTACH;FMTTYPE=image/png:https://thederbytavern.com/wp-content/uploads/2026/04/Screenshot-2026-04-03-at-14.03.31.png
ORGANIZER;CN="The Derby Tavern":MAILTO:info@thederbytavern.com
END:VEVENT
BEGIN:VEVENT
DTSTART;TZID=America/Detroit:20271007T200000
DTEND;TZID=America/Detroit:20271007T220000
DTSTAMP:20260424T001503
CREATED:20260401T212842Z
LAST-MODIFIED:20260402T180252Z
UID:10001423-1822939200-1822946400@thederbytavern.com
SUMMARY:Unwind With Us - Thursday Late Night
DESCRIPTION:Unwind With Us every Thursday evening! Enjoy $1 off drafts and $2 off wine\, plus our Thursday features: Arancini ($12) and a Whirlaway Manhattan ($9).
URL:https://thederbytavern.com/event/unwind-with-us-thursday-late-night/2027-10-07/
LOCATION:The Derby Tavern\, 3686 32nd Ave Ste 300\, Hudsonville\, MI\, 49426\, United States
CATEGORIES:Happy Hour
ORGANIZER;CN="The Derby Tavern":MAILTO:info@thederbytavern.com
END:VEVENT
BEGIN:VEVENT
DTSTART;TZID=America/Detroit:20271012T150000
DTEND;TZID=America/Detroit:20271012T170000
DTSTAMP:20260424T001503
CREATED:20260401T211930Z
LAST-MODIFIED:20260403T180651Z
UID:10000117-1823353200-1823360400@thederbytavern.com
SUMMARY:Unwind With Us - Tuesday Happy Hour
DESCRIPTION:Unwind With Us every Tuesday afternoon! Enjoy $1 off drafts and $2 off wine\, plus our Tuesday features: Nachos ($12) and a Mustang Margarita ($8).
URL:https://thederbytavern.com/event/unwind-with-us-tuesday-happy-hour/2027-10-12/
LOCATION:The Derby Tavern\, 3686 32nd Ave Ste 300\, Hudsonville\, MI\, 49426\, United States
CATEGORIES:Happy Hour
ATTACH;FMTTYPE=image/png:https://thederbytavern.com/wp-content/uploads/2026/04/Screenshot-2026-04-03-at-14.03.31.png
ORGANIZER;CN="The Derby Tavern":MAILTO:info@thederbytavern.com
END:VEVENT
BEGIN:VEVENT
DTSTART;TZID=America/Detroit:20271012T200000
DTEND;TZID=America/Detroit:20271012T220000
DTSTAMP:20260424T001503
CREATED:20260401T212408Z
LAST-MODIFIED:20260403T180620Z
UID:10000379-1823371200-1823378400@thederbytavern.com
SUMMARY:Unwind With Us - Tuesday Late Night
DESCRIPTION:Unwind With Us every Tuesday evening! Enjoy $1 off drafts and $2 off wine\, plus our Tuesday features: Nachos ($12) and a Mustang Margarita ($8).
URL:https://thederbytavern.com/event/unwind-with-us-tuesday-late-night/2027-10-12/
LOCATION:The Derby Tavern\, 3686 32nd Ave Ste 300\, Hudsonville\, MI\, 49426\, United States
CATEGORIES:Happy Hour
ATTACH;FMTTYPE=image/png:https://thederbytavern.com/wp-content/uploads/2026/04/Screenshot-2026-04-03-at-14.03.31.png
ORGANIZER;CN="The Derby Tavern":MAILTO:info@thederbytavern.com
END:VEVENT
BEGIN:VEVENT
DTSTART;TZID=America/Detroit:20271013T150000
DTEND;TZID=America/Detroit:20271013T170000
DTSTAMP:20260424T001503
CREATED:20260401T212458Z
LAST-MODIFIED:20260403T180944Z
UID:10000641-1823439600-1823446800@thederbytavern.com
SUMMARY:Unwind With Us - Wednesday Happy Hour
DESCRIPTION:Unwind With Us every Wednesday afternoon! Enjoy $1 off drafts and $2 off wine\, plus our Wednesday features: Harissa Shrimp ($14) and a Big Joe ($10).
URL:https://thederbytavern.com/event/unwind-with-us-wednesday-happy-hour/2027-10-13/
LOCATION:The Derby Tavern\, 3686 32nd Ave Ste 300\, Hudsonville\, MI\, 49426\, United States
CATEGORIES:Happy Hour
ATTACH;FMTTYPE=image/png:https://thederbytavern.com/wp-content/uploads/2026/04/Screenshot-2026-04-03-at-14.03.31.png
ORGANIZER;CN="The Derby Tavern":MAILTO:info@thederbytavern.com
END:VEVENT
BEGIN:VEVENT
DTSTART;TZID=America/Detroit:20271013T200000
DTEND;TZID=America/Detroit:20271013T220000
DTSTAMP:20260424T001503
CREATED:20260401T212703Z
LAST-MODIFIED:20260403T180904Z
UID:10000902-1823457600-1823464800@thederbytavern.com
SUMMARY:Unwind With Us - Wednesday Late Night
DESCRIPTION:Unwind With Us every Wednesday evening! Enjoy $1 off drafts and $2 off wine\, plus our Wednesday features: Harissa Shrimp ($14) and a Big Joe ($10).
URL:https://thederbytavern.com/event/unwind-with-us-wednesday-late-night/2027-10-13/
LOCATION:The Derby Tavern\, 3686 32nd Ave Ste 300\, Hudsonville\, MI\, 49426\, United States
CATEGORIES:Happy Hour
ATTACH;FMTTYPE=image/png:https://thederbytavern.com/wp-content/uploads/2026/04/Screenshot-2026-04-03-at-14.03.31.png
ORGANIZER;CN="The Derby Tavern":MAILTO:info@thederbytavern.com
END:VEVENT
BEGIN:VEVENT
DTSTART;TZID=America/Detroit:20271014T150000
DTEND;TZID=America/Detroit:20271014T170000
DTSTAMP:20260424T001503
CREATED:20260401T212759Z
LAST-MODIFIED:20260403T180750Z
UID:10001163-1823526000-1823533200@thederbytavern.com
SUMMARY:Unwind With Us - Thursday Happy Hour
DESCRIPTION:Unwind With Us every Thursday afternoon! Enjoy $1 off drafts and $2 off wine\, plus our Thursday features: Arancini ($12) and a Whirlaway Manhattan ($9).
URL:https://thederbytavern.com/event/unwind-with-us-thursday-happy-hour/2027-10-14/
LOCATION:The Derby Tavern\, 3686 32nd Ave Ste 300\, Hudsonville\, MI\, 49426\, United States
CATEGORIES:Happy Hour
ATTACH;FMTTYPE=image/png:https://thederbytavern.com/wp-content/uploads/2026/04/Screenshot-2026-04-03-at-14.03.31.png
ORGANIZER;CN="The Derby Tavern":MAILTO:info@thederbytavern.com
END:VEVENT
BEGIN:VEVENT
DTSTART;TZID=America/Detroit:20271014T200000
DTEND;TZID=America/Detroit:20271014T220000
DTSTAMP:20260424T001503
CREATED:20260401T212842Z
LAST-MODIFIED:20260402T180252Z
UID:10001424-1823544000-1823551200@thederbytavern.com
SUMMARY:Unwind With Us - Thursday Late Night
DESCRIPTION:Unwind With Us every Thursday evening! Enjoy $1 off drafts and $2 off wine\, plus our Thursday features: Arancini ($12) and a Whirlaway Manhattan ($9).
URL:https://thederbytavern.com/event/unwind-with-us-thursday-late-night/2027-10-14/
LOCATION:The Derby Tavern\, 3686 32nd Ave Ste 300\, Hudsonville\, MI\, 49426\, United States
CATEGORIES:Happy Hour
ORGANIZER;CN="The Derby Tavern":MAILTO:info@thederbytavern.com
END:VEVENT
BEGIN:VEVENT
DTSTART;TZID=America/Detroit:20271019T150000
DTEND;TZID=America/Detroit:20271019T170000
DTSTAMP:20260424T001503
CREATED:20260401T211930Z
LAST-MODIFIED:20260403T180651Z
UID:10000118-1823958000-1823965200@thederbytavern.com
SUMMARY:Unwind With Us - Tuesday Happy Hour
DESCRIPTION:Unwind With Us every Tuesday afternoon! Enjoy $1 off drafts and $2 off wine\, plus our Tuesday features: Nachos ($12) and a Mustang Margarita ($8).
URL:https://thederbytavern.com/event/unwind-with-us-tuesday-happy-hour/2027-10-19/
LOCATION:The Derby Tavern\, 3686 32nd Ave Ste 300\, Hudsonville\, MI\, 49426\, United States
CATEGORIES:Happy Hour
ATTACH;FMTTYPE=image/png:https://thederbytavern.com/wp-content/uploads/2026/04/Screenshot-2026-04-03-at-14.03.31.png
ORGANIZER;CN="The Derby Tavern":MAILTO:info@thederbytavern.com
END:VEVENT
BEGIN:VEVENT
DTSTART;TZID=America/Detroit:20271019T200000
DTEND;TZID=America/Detroit:20271019T220000
DTSTAMP:20260424T001503
CREATED:20260401T212408Z
LAST-MODIFIED:20260403T180620Z
UID:10000380-1823976000-1823983200@thederbytavern.com
SUMMARY:Unwind With Us - Tuesday Late Night
DESCRIPTION:Unwind With Us every Tuesday evening! Enjoy $1 off drafts and $2 off wine\, plus our Tuesday features: Nachos ($12) and a Mustang Margarita ($8).
URL:https://thederbytavern.com/event/unwind-with-us-tuesday-late-night/2027-10-19/
LOCATION:The Derby Tavern\, 3686 32nd Ave Ste 300\, Hudsonville\, MI\, 49426\, United States
CATEGORIES:Happy Hour
ATTACH;FMTTYPE=image/png:https://thederbytavern.com/wp-content/uploads/2026/04/Screenshot-2026-04-03-at-14.03.31.png
ORGANIZER;CN="The Derby Tavern":MAILTO:info@thederbytavern.com
END:VEVENT
BEGIN:VEVENT
DTSTART;TZID=America/Detroit:20271020T150000
DTEND;TZID=America/Detroit:20271020T170000
DTSTAMP:20260424T001503
CREATED:20260401T212458Z
LAST-MODIFIED:20260403T180944Z
UID:10000642-1824044400-1824051600@thederbytavern.com
SUMMARY:Unwind With Us - Wednesday Happy Hour
DESCRIPTION:Unwind With Us every Wednesday afternoon! Enjoy $1 off drafts and $2 off wine\, plus our Wednesday features: Harissa Shrimp ($14) and a Big Joe ($10).
URL:https://thederbytavern.com/event/unwind-with-us-wednesday-happy-hour/2027-10-20/
LOCATION:The Derby Tavern\, 3686 32nd Ave Ste 300\, Hudsonville\, MI\, 49426\, United States
CATEGORIES:Happy Hour
ATTACH;FMTTYPE=image/png:https://thederbytavern.com/wp-content/uploads/2026/04/Screenshot-2026-04-03-at-14.03.31.png
ORGANIZER;CN="The Derby Tavern":MAILTO:info@thederbytavern.com
END:VEVENT
BEGIN:VEVENT
DTSTART;TZID=America/Detroit:20271020T200000
DTEND;TZID=America/Detroit:20271020T220000
DTSTAMP:20260424T001503
CREATED:20260401T212703Z
LAST-MODIFIED:20260403T180904Z
UID:10000903-1824062400-1824069600@thederbytavern.com
SUMMARY:Unwind With Us - Wednesday Late Night
DESCRIPTION:Unwind With Us every Wednesday evening! Enjoy $1 off drafts and $2 off wine\, plus our Wednesday features: Harissa Shrimp ($14) and a Big Joe ($10).
URL:https://thederbytavern.com/event/unwind-with-us-wednesday-late-night/2027-10-20/
LOCATION:The Derby Tavern\, 3686 32nd Ave Ste 300\, Hudsonville\, MI\, 49426\, United States
CATEGORIES:Happy Hour
ATTACH;FMTTYPE=image/png:https://thederbytavern.com/wp-content/uploads/2026/04/Screenshot-2026-04-03-at-14.03.31.png
ORGANIZER;CN="The Derby Tavern":MAILTO:info@thederbytavern.com
END:VEVENT
BEGIN:VEVENT
DTSTART;TZID=America/Detroit:20271021T150000
DTEND;TZID=America/Detroit:20271021T170000
DTSTAMP:20260424T001503
CREATED:20260401T212759Z
LAST-MODIFIED:20260403T180750Z
UID:10001164-1824130800-1824138000@thederbytavern.com
SUMMARY:Unwind With Us - Thursday Happy Hour
DESCRIPTION:Unwind With Us every Thursday afternoon! Enjoy $1 off drafts and $2 off wine\, plus our Thursday features: Arancini ($12) and a Whirlaway Manhattan ($9).
URL:https://thederbytavern.com/event/unwind-with-us-thursday-happy-hour/2027-10-21/
LOCATION:The Derby Tavern\, 3686 32nd Ave Ste 300\, Hudsonville\, MI\, 49426\, United States
CATEGORIES:Happy Hour
ATTACH;FMTTYPE=image/png:https://thederbytavern.com/wp-content/uploads/2026/04/Screenshot-2026-04-03-at-14.03.31.png
ORGANIZER;CN="The Derby Tavern":MAILTO:info@thederbytavern.com
END:VEVENT
BEGIN:VEVENT
DTSTART;TZID=America/Detroit:20271021T200000
DTEND;TZID=America/Detroit:20271021T220000
DTSTAMP:20260424T001503
CREATED:20260401T212842Z
LAST-MODIFIED:20260402T180252Z
UID:10001425-1824148800-1824156000@thederbytavern.com
SUMMARY:Unwind With Us - Thursday Late Night
DESCRIPTION:Unwind With Us every Thursday evening! Enjoy $1 off drafts and $2 off wine\, plus our Thursday features: Arancini ($12) and a Whirlaway Manhattan ($9).
URL:https://thederbytavern.com/event/unwind-with-us-thursday-late-night/2027-10-21/
LOCATION:The Derby Tavern\, 3686 32nd Ave Ste 300\, Hudsonville\, MI\, 49426\, United States
CATEGORIES:Happy Hour
ORGANIZER;CN="The Derby Tavern":MAILTO:info@thederbytavern.com
END:VEVENT
BEGIN:VEVENT
DTSTART;TZID=America/Detroit:20271026T150000
DTEND;TZID=America/Detroit:20271026T170000
DTSTAMP:20260424T001503
CREATED:20260401T211930Z
LAST-MODIFIED:20260403T180651Z
UID:10000119-1824562800-1824570000@thederbytavern.com
SUMMARY:Unwind With Us - Tuesday Happy Hour
DESCRIPTION:Unwind With Us every Tuesday afternoon! Enjoy $1 off drafts and $2 off wine\, plus our Tuesday features: Nachos ($12) and a Mustang Margarita ($8).
URL:https://thederbytavern.com/event/unwind-with-us-tuesday-happy-hour/2027-10-26/
LOCATION:The Derby Tavern\, 3686 32nd Ave Ste 300\, Hudsonville\, MI\, 49426\, United States
CATEGORIES:Happy Hour
ATTACH;FMTTYPE=image/png:https://thederbytavern.com/wp-content/uploads/2026/04/Screenshot-2026-04-03-at-14.03.31.png
ORGANIZER;CN="The Derby Tavern":MAILTO:info@thederbytavern.com
END:VEVENT
BEGIN:VEVENT
DTSTART;TZID=America/Detroit:20271026T200000
DTEND;TZID=America/Detroit:20271026T220000
DTSTAMP:20260424T001503
CREATED:20260401T212408Z
LAST-MODIFIED:20260403T180620Z
UID:10000381-1824580800-1824588000@thederbytavern.com
SUMMARY:Unwind With Us - Tuesday Late Night
DESCRIPTION:Unwind With Us every Tuesday evening! Enjoy $1 off drafts and $2 off wine\, plus our Tuesday features: Nachos ($12) and a Mustang Margarita ($8).
URL:https://thederbytavern.com/event/unwind-with-us-tuesday-late-night/2027-10-26/
LOCATION:The Derby Tavern\, 3686 32nd Ave Ste 300\, Hudsonville\, MI\, 49426\, United States
CATEGORIES:Happy Hour
ATTACH;FMTTYPE=image/png:https://thederbytavern.com/wp-content/uploads/2026/04/Screenshot-2026-04-03-at-14.03.31.png
ORGANIZER;CN="The Derby Tavern":MAILTO:info@thederbytavern.com
END:VEVENT
BEGIN:VEVENT
DTSTART;TZID=America/Detroit:20271027T150000
DTEND;TZID=America/Detroit:20271027T170000
DTSTAMP:20260424T001503
CREATED:20260401T212458Z
LAST-MODIFIED:20260403T180944Z
UID:10000643-1824649200-1824656400@thederbytavern.com
SUMMARY:Unwind With Us - Wednesday Happy Hour
DESCRIPTION:Unwind With Us every Wednesday afternoon! Enjoy $1 off drafts and $2 off wine\, plus our Wednesday features: Harissa Shrimp ($14) and a Big Joe ($10).
URL:https://thederbytavern.com/event/unwind-with-us-wednesday-happy-hour/2027-10-27/
LOCATION:The Derby Tavern\, 3686 32nd Ave Ste 300\, Hudsonville\, MI\, 49426\, United States
CATEGORIES:Happy Hour
ATTACH;FMTTYPE=image/png:https://thederbytavern.com/wp-content/uploads/2026/04/Screenshot-2026-04-03-at-14.03.31.png
ORGANIZER;CN="The Derby Tavern":MAILTO:info@thederbytavern.com
END:VEVENT
BEGIN:VEVENT
DTSTART;TZID=America/Detroit:20271027T200000
DTEND;TZID=America/Detroit:20271027T220000
DTSTAMP:20260424T001503
CREATED:20260401T212703Z
LAST-MODIFIED:20260403T180904Z
UID:10000904-1824667200-1824674400@thederbytavern.com
SUMMARY:Unwind With Us - Wednesday Late Night
DESCRIPTION:Unwind With Us every Wednesday evening! Enjoy $1 off drafts and $2 off wine\, plus our Wednesday features: Harissa Shrimp ($14) and a Big Joe ($10).
URL:https://thederbytavern.com/event/unwind-with-us-wednesday-late-night/2027-10-27/
LOCATION:The Derby Tavern\, 3686 32nd Ave Ste 300\, Hudsonville\, MI\, 49426\, United States
CATEGORIES:Happy Hour
ATTACH;FMTTYPE=image/png:https://thederbytavern.com/wp-content/uploads/2026/04/Screenshot-2026-04-03-at-14.03.31.png
ORGANIZER;CN="The Derby Tavern":MAILTO:info@thederbytavern.com
END:VEVENT
BEGIN:VEVENT
DTSTART;TZID=America/Detroit:20271028T150000
DTEND;TZID=America/Detroit:20271028T170000
DTSTAMP:20260424T001503
CREATED:20260401T212759Z
LAST-MODIFIED:20260403T180750Z
UID:10001165-1824735600-1824742800@thederbytavern.com
SUMMARY:Unwind With Us - Thursday Happy Hour
DESCRIPTION:Unwind With Us every Thursday afternoon! Enjoy $1 off drafts and $2 off wine\, plus our Thursday features: Arancini ($12) and a Whirlaway Manhattan ($9).
URL:https://thederbytavern.com/event/unwind-with-us-thursday-happy-hour/2027-10-28/
LOCATION:The Derby Tavern\, 3686 32nd Ave Ste 300\, Hudsonville\, MI\, 49426\, United States
CATEGORIES:Happy Hour
ATTACH;FMTTYPE=image/png:https://thederbytavern.com/wp-content/uploads/2026/04/Screenshot-2026-04-03-at-14.03.31.png
ORGANIZER;CN="The Derby Tavern":MAILTO:info@thederbytavern.com
END:VEVENT
BEGIN:VEVENT
DTSTART;TZID=America/Detroit:20271028T200000
DTEND;TZID=America/Detroit:20271028T220000
DTSTAMP:20260424T001504
CREATED:20260401T212842Z
LAST-MODIFIED:20260402T180252Z
UID:10001426-1824753600-1824760800@thederbytavern.com
SUMMARY:Unwind With Us - Thursday Late Night
DESCRIPTION:Unwind With Us every Thursday evening! Enjoy $1 off drafts and $2 off wine\, plus our Thursday features: Arancini ($12) and a Whirlaway Manhattan ($9).
URL:https://thederbytavern.com/event/unwind-with-us-thursday-late-night/2027-10-28/
LOCATION:The Derby Tavern\, 3686 32nd Ave Ste 300\, Hudsonville\, MI\, 49426\, United States
CATEGORIES:Happy Hour
ORGANIZER;CN="The Derby Tavern":MAILTO:info@thederbytavern.com
END:VEVENT
BEGIN:VEVENT
DTSTART;TZID=America/Detroit:20271102T150000
DTEND;TZID=America/Detroit:20271102T170000
DTSTAMP:20260424T001504
CREATED:20260401T211930Z
LAST-MODIFIED:20260403T180651Z
UID:10000120-1825167600-1825174800@thederbytavern.com
SUMMARY:Unwind With Us - Tuesday Happy Hour
DESCRIPTION:Unwind With Us every Tuesday afternoon! Enjoy $1 off drafts and $2 off wine\, plus our Tuesday features: Nachos ($12) and a Mustang Margarita ($8).
URL:https://thederbytavern.com/event/unwind-with-us-tuesday-happy-hour/2027-11-02/
LOCATION:The Derby Tavern\, 3686 32nd Ave Ste 300\, Hudsonville\, MI\, 49426\, United States
CATEGORIES:Happy Hour
ATTACH;FMTTYPE=image/png:https://thederbytavern.com/wp-content/uploads/2026/04/Screenshot-2026-04-03-at-14.03.31.png
ORGANIZER;CN="The Derby Tavern":MAILTO:info@thederbytavern.com
END:VEVENT
BEGIN:VEVENT
DTSTART;TZID=America/Detroit:20271102T200000
DTEND;TZID=America/Detroit:20271102T220000
DTSTAMP:20260424T001504
CREATED:20260401T212408Z
LAST-MODIFIED:20260403T180620Z
UID:10000382-1825185600-1825192800@thederbytavern.com
SUMMARY:Unwind With Us - Tuesday Late Night
DESCRIPTION:Unwind With Us every Tuesday evening! Enjoy $1 off drafts and $2 off wine\, plus our Tuesday features: Nachos ($12) and a Mustang Margarita ($8).
URL:https://thederbytavern.com/event/unwind-with-us-tuesday-late-night/2027-11-02/
LOCATION:The Derby Tavern\, 3686 32nd Ave Ste 300\, Hudsonville\, MI\, 49426\, United States
CATEGORIES:Happy Hour
ATTACH;FMTTYPE=image/png:https://thederbytavern.com/wp-content/uploads/2026/04/Screenshot-2026-04-03-at-14.03.31.png
ORGANIZER;CN="The Derby Tavern":MAILTO:info@thederbytavern.com
END:VEVENT
BEGIN:VEVENT
DTSTART;TZID=America/Detroit:20271103T150000
DTEND;TZID=America/Detroit:20271103T170000
DTSTAMP:20260424T001504
CREATED:20260401T212458Z
LAST-MODIFIED:20260403T180944Z
UID:10000644-1825254000-1825261200@thederbytavern.com
SUMMARY:Unwind With Us - Wednesday Happy Hour
DESCRIPTION:Unwind With Us every Wednesday afternoon! Enjoy $1 off drafts and $2 off wine\, plus our Wednesday features: Harissa Shrimp ($14) and a Big Joe ($10).
URL:https://thederbytavern.com/event/unwind-with-us-wednesday-happy-hour/2027-11-03/
LOCATION:The Derby Tavern\, 3686 32nd Ave Ste 300\, Hudsonville\, MI\, 49426\, United States
CATEGORIES:Happy Hour
ATTACH;FMTTYPE=image/png:https://thederbytavern.com/wp-content/uploads/2026/04/Screenshot-2026-04-03-at-14.03.31.png
ORGANIZER;CN="The Derby Tavern":MAILTO:info@thederbytavern.com
END:VEVENT
BEGIN:VEVENT
DTSTART;TZID=America/Detroit:20271103T200000
DTEND;TZID=America/Detroit:20271103T220000
DTSTAMP:20260424T001504
CREATED:20260401T212703Z
LAST-MODIFIED:20260403T180904Z
UID:10000905-1825272000-1825279200@thederbytavern.com
SUMMARY:Unwind With Us - Wednesday Late Night
DESCRIPTION:Unwind With Us every Wednesday evening! Enjoy $1 off drafts and $2 off wine\, plus our Wednesday features: Harissa Shrimp ($14) and a Big Joe ($10).
URL:https://thederbytavern.com/event/unwind-with-us-wednesday-late-night/2027-11-03/
LOCATION:The Derby Tavern\, 3686 32nd Ave Ste 300\, Hudsonville\, MI\, 49426\, United States
CATEGORIES:Happy Hour
ATTACH;FMTTYPE=image/png:https://thederbytavern.com/wp-content/uploads/2026/04/Screenshot-2026-04-03-at-14.03.31.png
ORGANIZER;CN="The Derby Tavern":MAILTO:info@thederbytavern.com
END:VEVENT
END:VCALENDAR