BEGIN:VCALENDAR
VERSION:2.0
PRODID:-//The Derby Tavern - ECPv6.15.17//NONSGML v1.0//EN
CALSCALE:GREGORIAN
METHOD:PUBLISH
X-ORIGINAL-URL:https://thederbytavern.com
X-WR-CALDESC:Events for The Derby Tavern
REFRESH-INTERVAL;VALUE=DURATION:PT1H
X-Robots-Tag:noindex
X-PUBLISHED-TTL:PT1H
BEGIN:VTIMEZONE
TZID:America/Detroit
BEGIN:DAYLIGHT
TZOFFSETFROM:-0500
TZOFFSETTO:-0400
TZNAME:EDT
DTSTART:20260308T070000
END:DAYLIGHT
BEGIN:STANDARD
TZOFFSETFROM:-0400
TZOFFSETTO:-0500
TZNAME:EST
DTSTART:20261101T060000
END:STANDARD
BEGIN:DAYLIGHT
TZOFFSETFROM:-0500
TZOFFSETTO:-0400
TZNAME:EDT
DTSTART:20270314T070000
END:DAYLIGHT
BEGIN:STANDARD
TZOFFSETFROM:-0400
TZOFFSETTO:-0500
TZNAME:EST
DTSTART:20271107T060000
END:STANDARD
BEGIN:DAYLIGHT
TZOFFSETFROM:-0500
TZOFFSETTO:-0400
TZNAME:EDT
DTSTART:20280312T070000
END:DAYLIGHT
BEGIN:STANDARD
TZOFFSETFROM:-0400
TZOFFSETTO:-0500
TZNAME:EST
DTSTART:20281105T060000
END:STANDARD
END:VTIMEZONE
BEGIN:VEVENT
DTSTART;TZID=America/Detroit:20270811T150000
DTEND;TZID=America/Detroit:20270811T170000
DTSTAMP:20260423T072435
CREATED:20260401T212458Z
LAST-MODIFIED:20260403T180944Z
UID:10000632-1817996400-1818003600@thederbytavern.com
SUMMARY:Unwind With Us - Wednesday Happy Hour
DESCRIPTION:Unwind With Us every Wednesday afternoon! Enjoy $1 off drafts and $2 off wine\, plus our Wednesday features: Harissa Shrimp ($14) and a Big Joe ($10).
URL:https://thederbytavern.com/event/unwind-with-us-wednesday-happy-hour/2027-08-11/
LOCATION:The Derby Tavern\, 3686 32nd Ave Ste 300\, Hudsonville\, MI\, 49426\, United States
CATEGORIES:Happy Hour
ATTACH;FMTTYPE=image/png:https://thederbytavern.com/wp-content/uploads/2026/04/Screenshot-2026-04-03-at-14.03.31.png
ORGANIZER;CN="The Derby Tavern":MAILTO:info@thederbytavern.com
END:VEVENT
BEGIN:VEVENT
DTSTART;TZID=America/Detroit:20270811T200000
DTEND;TZID=America/Detroit:20270811T220000
DTSTAMP:20260423T072435
CREATED:20260401T212703Z
LAST-MODIFIED:20260403T180904Z
UID:10000893-1818014400-1818021600@thederbytavern.com
SUMMARY:Unwind With Us - Wednesday Late Night
DESCRIPTION:Unwind With Us every Wednesday evening! Enjoy $1 off drafts and $2 off wine\, plus our Wednesday features: Harissa Shrimp ($14) and a Big Joe ($10).
URL:https://thederbytavern.com/event/unwind-with-us-wednesday-late-night/2027-08-11/
LOCATION:The Derby Tavern\, 3686 32nd Ave Ste 300\, Hudsonville\, MI\, 49426\, United States
CATEGORIES:Happy Hour
ATTACH;FMTTYPE=image/png:https://thederbytavern.com/wp-content/uploads/2026/04/Screenshot-2026-04-03-at-14.03.31.png
ORGANIZER;CN="The Derby Tavern":MAILTO:info@thederbytavern.com
END:VEVENT
BEGIN:VEVENT
DTSTART;TZID=America/Detroit:20270812T150000
DTEND;TZID=America/Detroit:20270812T170000
DTSTAMP:20260423T072435
CREATED:20260401T212759Z
LAST-MODIFIED:20260403T180750Z
UID:10001154-1818082800-1818090000@thederbytavern.com
SUMMARY:Unwind With Us - Thursday Happy Hour
DESCRIPTION:Unwind With Us every Thursday afternoon! Enjoy $1 off drafts and $2 off wine\, plus our Thursday features: Arancini ($12) and a Whirlaway Manhattan ($9).
URL:https://thederbytavern.com/event/unwind-with-us-thursday-happy-hour/2027-08-12/
LOCATION:The Derby Tavern\, 3686 32nd Ave Ste 300\, Hudsonville\, MI\, 49426\, United States
CATEGORIES:Happy Hour
ATTACH;FMTTYPE=image/png:https://thederbytavern.com/wp-content/uploads/2026/04/Screenshot-2026-04-03-at-14.03.31.png
ORGANIZER;CN="The Derby Tavern":MAILTO:info@thederbytavern.com
END:VEVENT
BEGIN:VEVENT
DTSTART;TZID=America/Detroit:20270812T200000
DTEND;TZID=America/Detroit:20270812T220000
DTSTAMP:20260423T072435
CREATED:20260401T212842Z
LAST-MODIFIED:20260402T180252Z
UID:10001415-1818100800-1818108000@thederbytavern.com
SUMMARY:Unwind With Us - Thursday Late Night
DESCRIPTION:Unwind With Us every Thursday evening! Enjoy $1 off drafts and $2 off wine\, plus our Thursday features: Arancini ($12) and a Whirlaway Manhattan ($9).
URL:https://thederbytavern.com/event/unwind-with-us-thursday-late-night/2027-08-12/
LOCATION:The Derby Tavern\, 3686 32nd Ave Ste 300\, Hudsonville\, MI\, 49426\, United States
CATEGORIES:Happy Hour
ORGANIZER;CN="The Derby Tavern":MAILTO:info@thederbytavern.com
END:VEVENT
BEGIN:VEVENT
DTSTART;TZID=America/Detroit:20270817T150000
DTEND;TZID=America/Detroit:20270817T170000
DTSTAMP:20260423T072435
CREATED:20260401T211930Z
LAST-MODIFIED:20260403T180651Z
UID:10000109-1818514800-1818522000@thederbytavern.com
SUMMARY:Unwind With Us - Tuesday Happy Hour
DESCRIPTION:Unwind With Us every Tuesday afternoon! Enjoy $1 off drafts and $2 off wine\, plus our Tuesday features: Nachos ($12) and a Mustang Margarita ($8).
URL:https://thederbytavern.com/event/unwind-with-us-tuesday-happy-hour/2027-08-17/
LOCATION:The Derby Tavern\, 3686 32nd Ave Ste 300\, Hudsonville\, MI\, 49426\, United States
CATEGORIES:Happy Hour
ATTACH;FMTTYPE=image/png:https://thederbytavern.com/wp-content/uploads/2026/04/Screenshot-2026-04-03-at-14.03.31.png
ORGANIZER;CN="The Derby Tavern":MAILTO:info@thederbytavern.com
END:VEVENT
BEGIN:VEVENT
DTSTART;TZID=America/Detroit:20270817T200000
DTEND;TZID=America/Detroit:20270817T220000
DTSTAMP:20260423T072435
CREATED:20260401T212408Z
LAST-MODIFIED:20260403T180620Z
UID:10000371-1818532800-1818540000@thederbytavern.com
SUMMARY:Unwind With Us - Tuesday Late Night
DESCRIPTION:Unwind With Us every Tuesday evening! Enjoy $1 off drafts and $2 off wine\, plus our Tuesday features: Nachos ($12) and a Mustang Margarita ($8).
URL:https://thederbytavern.com/event/unwind-with-us-tuesday-late-night/2027-08-17/
LOCATION:The Derby Tavern\, 3686 32nd Ave Ste 300\, Hudsonville\, MI\, 49426\, United States
CATEGORIES:Happy Hour
ATTACH;FMTTYPE=image/png:https://thederbytavern.com/wp-content/uploads/2026/04/Screenshot-2026-04-03-at-14.03.31.png
ORGANIZER;CN="The Derby Tavern":MAILTO:info@thederbytavern.com
END:VEVENT
BEGIN:VEVENT
DTSTART;TZID=America/Detroit:20270818T150000
DTEND;TZID=America/Detroit:20270818T170000
DTSTAMP:20260423T072435
CREATED:20260401T212458Z
LAST-MODIFIED:20260403T180944Z
UID:10000633-1818601200-1818608400@thederbytavern.com
SUMMARY:Unwind With Us - Wednesday Happy Hour
DESCRIPTION:Unwind With Us every Wednesday afternoon! Enjoy $1 off drafts and $2 off wine\, plus our Wednesday features: Harissa Shrimp ($14) and a Big Joe ($10).
URL:https://thederbytavern.com/event/unwind-with-us-wednesday-happy-hour/2027-08-18/
LOCATION:The Derby Tavern\, 3686 32nd Ave Ste 300\, Hudsonville\, MI\, 49426\, United States
CATEGORIES:Happy Hour
ATTACH;FMTTYPE=image/png:https://thederbytavern.com/wp-content/uploads/2026/04/Screenshot-2026-04-03-at-14.03.31.png
ORGANIZER;CN="The Derby Tavern":MAILTO:info@thederbytavern.com
END:VEVENT
BEGIN:VEVENT
DTSTART;TZID=America/Detroit:20270818T200000
DTEND;TZID=America/Detroit:20270818T220000
DTSTAMP:20260423T072435
CREATED:20260401T212703Z
LAST-MODIFIED:20260403T180904Z
UID:10000894-1818619200-1818626400@thederbytavern.com
SUMMARY:Unwind With Us - Wednesday Late Night
DESCRIPTION:Unwind With Us every Wednesday evening! Enjoy $1 off drafts and $2 off wine\, plus our Wednesday features: Harissa Shrimp ($14) and a Big Joe ($10).
URL:https://thederbytavern.com/event/unwind-with-us-wednesday-late-night/2027-08-18/
LOCATION:The Derby Tavern\, 3686 32nd Ave Ste 300\, Hudsonville\, MI\, 49426\, United States
CATEGORIES:Happy Hour
ATTACH;FMTTYPE=image/png:https://thederbytavern.com/wp-content/uploads/2026/04/Screenshot-2026-04-03-at-14.03.31.png
ORGANIZER;CN="The Derby Tavern":MAILTO:info@thederbytavern.com
END:VEVENT
BEGIN:VEVENT
DTSTART;TZID=America/Detroit:20270819T150000
DTEND;TZID=America/Detroit:20270819T170000
DTSTAMP:20260423T072435
CREATED:20260401T212759Z
LAST-MODIFIED:20260403T180750Z
UID:10001155-1818687600-1818694800@thederbytavern.com
SUMMARY:Unwind With Us - Thursday Happy Hour
DESCRIPTION:Unwind With Us every Thursday afternoon! Enjoy $1 off drafts and $2 off wine\, plus our Thursday features: Arancini ($12) and a Whirlaway Manhattan ($9).
URL:https://thederbytavern.com/event/unwind-with-us-thursday-happy-hour/2027-08-19/
LOCATION:The Derby Tavern\, 3686 32nd Ave Ste 300\, Hudsonville\, MI\, 49426\, United States
CATEGORIES:Happy Hour
ATTACH;FMTTYPE=image/png:https://thederbytavern.com/wp-content/uploads/2026/04/Screenshot-2026-04-03-at-14.03.31.png
ORGANIZER;CN="The Derby Tavern":MAILTO:info@thederbytavern.com
END:VEVENT
BEGIN:VEVENT
DTSTART;TZID=America/Detroit:20270819T200000
DTEND;TZID=America/Detroit:20270819T220000
DTSTAMP:20260423T072435
CREATED:20260401T212842Z
LAST-MODIFIED:20260402T180252Z
UID:10001416-1818705600-1818712800@thederbytavern.com
SUMMARY:Unwind With Us - Thursday Late Night
DESCRIPTION:Unwind With Us every Thursday evening! Enjoy $1 off drafts and $2 off wine\, plus our Thursday features: Arancini ($12) and a Whirlaway Manhattan ($9).
URL:https://thederbytavern.com/event/unwind-with-us-thursday-late-night/2027-08-19/
LOCATION:The Derby Tavern\, 3686 32nd Ave Ste 300\, Hudsonville\, MI\, 49426\, United States
CATEGORIES:Happy Hour
ORGANIZER;CN="The Derby Tavern":MAILTO:info@thederbytavern.com
END:VEVENT
BEGIN:VEVENT
DTSTART;TZID=America/Detroit:20270824T150000
DTEND;TZID=America/Detroit:20270824T170000
DTSTAMP:20260423T072435
CREATED:20260401T211930Z
LAST-MODIFIED:20260403T180651Z
UID:10000110-1819119600-1819126800@thederbytavern.com
SUMMARY:Unwind With Us - Tuesday Happy Hour
DESCRIPTION:Unwind With Us every Tuesday afternoon! Enjoy $1 off drafts and $2 off wine\, plus our Tuesday features: Nachos ($12) and a Mustang Margarita ($8).
URL:https://thederbytavern.com/event/unwind-with-us-tuesday-happy-hour/2027-08-24/
LOCATION:The Derby Tavern\, 3686 32nd Ave Ste 300\, Hudsonville\, MI\, 49426\, United States
CATEGORIES:Happy Hour
ATTACH;FMTTYPE=image/png:https://thederbytavern.com/wp-content/uploads/2026/04/Screenshot-2026-04-03-at-14.03.31.png
ORGANIZER;CN="The Derby Tavern":MAILTO:info@thederbytavern.com
END:VEVENT
BEGIN:VEVENT
DTSTART;TZID=America/Detroit:20270824T200000
DTEND;TZID=America/Detroit:20270824T220000
DTSTAMP:20260423T072435
CREATED:20260401T212408Z
LAST-MODIFIED:20260403T180620Z
UID:10000372-1819137600-1819144800@thederbytavern.com
SUMMARY:Unwind With Us - Tuesday Late Night
DESCRIPTION:Unwind With Us every Tuesday evening! Enjoy $1 off drafts and $2 off wine\, plus our Tuesday features: Nachos ($12) and a Mustang Margarita ($8).
URL:https://thederbytavern.com/event/unwind-with-us-tuesday-late-night/2027-08-24/
LOCATION:The Derby Tavern\, 3686 32nd Ave Ste 300\, Hudsonville\, MI\, 49426\, United States
CATEGORIES:Happy Hour
ATTACH;FMTTYPE=image/png:https://thederbytavern.com/wp-content/uploads/2026/04/Screenshot-2026-04-03-at-14.03.31.png
ORGANIZER;CN="The Derby Tavern":MAILTO:info@thederbytavern.com
END:VEVENT
BEGIN:VEVENT
DTSTART;TZID=America/Detroit:20270825T150000
DTEND;TZID=America/Detroit:20270825T170000
DTSTAMP:20260423T072435
CREATED:20260401T212458Z
LAST-MODIFIED:20260403T180944Z
UID:10000634-1819206000-1819213200@thederbytavern.com
SUMMARY:Unwind With Us - Wednesday Happy Hour
DESCRIPTION:Unwind With Us every Wednesday afternoon! Enjoy $1 off drafts and $2 off wine\, plus our Wednesday features: Harissa Shrimp ($14) and a Big Joe ($10).
URL:https://thederbytavern.com/event/unwind-with-us-wednesday-happy-hour/2027-08-25/
LOCATION:The Derby Tavern\, 3686 32nd Ave Ste 300\, Hudsonville\, MI\, 49426\, United States
CATEGORIES:Happy Hour
ATTACH;FMTTYPE=image/png:https://thederbytavern.com/wp-content/uploads/2026/04/Screenshot-2026-04-03-at-14.03.31.png
ORGANIZER;CN="The Derby Tavern":MAILTO:info@thederbytavern.com
END:VEVENT
BEGIN:VEVENT
DTSTART;TZID=America/Detroit:20270825T200000
DTEND;TZID=America/Detroit:20270825T220000
DTSTAMP:20260423T072435
CREATED:20260401T212703Z
LAST-MODIFIED:20260403T180904Z
UID:10000895-1819224000-1819231200@thederbytavern.com
SUMMARY:Unwind With Us - Wednesday Late Night
DESCRIPTION:Unwind With Us every Wednesday evening! Enjoy $1 off drafts and $2 off wine\, plus our Wednesday features: Harissa Shrimp ($14) and a Big Joe ($10).
URL:https://thederbytavern.com/event/unwind-with-us-wednesday-late-night/2027-08-25/
LOCATION:The Derby Tavern\, 3686 32nd Ave Ste 300\, Hudsonville\, MI\, 49426\, United States
CATEGORIES:Happy Hour
ATTACH;FMTTYPE=image/png:https://thederbytavern.com/wp-content/uploads/2026/04/Screenshot-2026-04-03-at-14.03.31.png
ORGANIZER;CN="The Derby Tavern":MAILTO:info@thederbytavern.com
END:VEVENT
BEGIN:VEVENT
DTSTART;TZID=America/Detroit:20270826T150000
DTEND;TZID=America/Detroit:20270826T170000
DTSTAMP:20260423T072435
CREATED:20260401T212759Z
LAST-MODIFIED:20260403T180750Z
UID:10001156-1819292400-1819299600@thederbytavern.com
SUMMARY:Unwind With Us - Thursday Happy Hour
DESCRIPTION:Unwind With Us every Thursday afternoon! Enjoy $1 off drafts and $2 off wine\, plus our Thursday features: Arancini ($12) and a Whirlaway Manhattan ($9).
URL:https://thederbytavern.com/event/unwind-with-us-thursday-happy-hour/2027-08-26/
LOCATION:The Derby Tavern\, 3686 32nd Ave Ste 300\, Hudsonville\, MI\, 49426\, United States
CATEGORIES:Happy Hour
ATTACH;FMTTYPE=image/png:https://thederbytavern.com/wp-content/uploads/2026/04/Screenshot-2026-04-03-at-14.03.31.png
ORGANIZER;CN="The Derby Tavern":MAILTO:info@thederbytavern.com
END:VEVENT
BEGIN:VEVENT
DTSTART;TZID=America/Detroit:20270826T200000
DTEND;TZID=America/Detroit:20270826T220000
DTSTAMP:20260423T072435
CREATED:20260401T212842Z
LAST-MODIFIED:20260402T180252Z
UID:10001417-1819310400-1819317600@thederbytavern.com
SUMMARY:Unwind With Us - Thursday Late Night
DESCRIPTION:Unwind With Us every Thursday evening! Enjoy $1 off drafts and $2 off wine\, plus our Thursday features: Arancini ($12) and a Whirlaway Manhattan ($9).
URL:https://thederbytavern.com/event/unwind-with-us-thursday-late-night/2027-08-26/
LOCATION:The Derby Tavern\, 3686 32nd Ave Ste 300\, Hudsonville\, MI\, 49426\, United States
CATEGORIES:Happy Hour
ORGANIZER;CN="The Derby Tavern":MAILTO:info@thederbytavern.com
END:VEVENT
BEGIN:VEVENT
DTSTART;TZID=America/Detroit:20270831T150000
DTEND;TZID=America/Detroit:20270831T170000
DTSTAMP:20260423T072435
CREATED:20260401T211930Z
LAST-MODIFIED:20260403T180651Z
UID:10000111-1819724400-1819731600@thederbytavern.com
SUMMARY:Unwind With Us - Tuesday Happy Hour
DESCRIPTION:Unwind With Us every Tuesday afternoon! Enjoy $1 off drafts and $2 off wine\, plus our Tuesday features: Nachos ($12) and a Mustang Margarita ($8).
URL:https://thederbytavern.com/event/unwind-with-us-tuesday-happy-hour/2027-08-31/
LOCATION:The Derby Tavern\, 3686 32nd Ave Ste 300\, Hudsonville\, MI\, 49426\, United States
CATEGORIES:Happy Hour
ATTACH;FMTTYPE=image/png:https://thederbytavern.com/wp-content/uploads/2026/04/Screenshot-2026-04-03-at-14.03.31.png
ORGANIZER;CN="The Derby Tavern":MAILTO:info@thederbytavern.com
END:VEVENT
BEGIN:VEVENT
DTSTART;TZID=America/Detroit:20270831T200000
DTEND;TZID=America/Detroit:20270831T220000
DTSTAMP:20260423T072435
CREATED:20260401T212408Z
LAST-MODIFIED:20260403T180620Z
UID:10000373-1819742400-1819749600@thederbytavern.com
SUMMARY:Unwind With Us - Tuesday Late Night
DESCRIPTION:Unwind With Us every Tuesday evening! Enjoy $1 off drafts and $2 off wine\, plus our Tuesday features: Nachos ($12) and a Mustang Margarita ($8).
URL:https://thederbytavern.com/event/unwind-with-us-tuesday-late-night/2027-08-31/
LOCATION:The Derby Tavern\, 3686 32nd Ave Ste 300\, Hudsonville\, MI\, 49426\, United States
CATEGORIES:Happy Hour
ATTACH;FMTTYPE=image/png:https://thederbytavern.com/wp-content/uploads/2026/04/Screenshot-2026-04-03-at-14.03.31.png
ORGANIZER;CN="The Derby Tavern":MAILTO:info@thederbytavern.com
END:VEVENT
BEGIN:VEVENT
DTSTART;TZID=America/Detroit:20270901T150000
DTEND;TZID=America/Detroit:20270901T170000
DTSTAMP:20260423T072435
CREATED:20260401T212458Z
LAST-MODIFIED:20260403T180944Z
UID:10000635-1819810800-1819818000@thederbytavern.com
SUMMARY:Unwind With Us - Wednesday Happy Hour
DESCRIPTION:Unwind With Us every Wednesday afternoon! Enjoy $1 off drafts and $2 off wine\, plus our Wednesday features: Harissa Shrimp ($14) and a Big Joe ($10).
URL:https://thederbytavern.com/event/unwind-with-us-wednesday-happy-hour/2027-09-01/
LOCATION:The Derby Tavern\, 3686 32nd Ave Ste 300\, Hudsonville\, MI\, 49426\, United States
CATEGORIES:Happy Hour
ATTACH;FMTTYPE=image/png:https://thederbytavern.com/wp-content/uploads/2026/04/Screenshot-2026-04-03-at-14.03.31.png
ORGANIZER;CN="The Derby Tavern":MAILTO:info@thederbytavern.com
END:VEVENT
BEGIN:VEVENT
DTSTART;TZID=America/Detroit:20270901T200000
DTEND;TZID=America/Detroit:20270901T220000
DTSTAMP:20260423T072435
CREATED:20260401T212703Z
LAST-MODIFIED:20260403T180904Z
UID:10000896-1819828800-1819836000@thederbytavern.com
SUMMARY:Unwind With Us - Wednesday Late Night
DESCRIPTION:Unwind With Us every Wednesday evening! Enjoy $1 off drafts and $2 off wine\, plus our Wednesday features: Harissa Shrimp ($14) and a Big Joe ($10).
URL:https://thederbytavern.com/event/unwind-with-us-wednesday-late-night/2027-09-01/
LOCATION:The Derby Tavern\, 3686 32nd Ave Ste 300\, Hudsonville\, MI\, 49426\, United States
CATEGORIES:Happy Hour
ATTACH;FMTTYPE=image/png:https://thederbytavern.com/wp-content/uploads/2026/04/Screenshot-2026-04-03-at-14.03.31.png
ORGANIZER;CN="The Derby Tavern":MAILTO:info@thederbytavern.com
END:VEVENT
BEGIN:VEVENT
DTSTART;TZID=America/Detroit:20270902T150000
DTEND;TZID=America/Detroit:20270902T170000
DTSTAMP:20260423T072435
CREATED:20260401T212759Z
LAST-MODIFIED:20260403T180750Z
UID:10001157-1819897200-1819904400@thederbytavern.com
SUMMARY:Unwind With Us - Thursday Happy Hour
DESCRIPTION:Unwind With Us every Thursday afternoon! Enjoy $1 off drafts and $2 off wine\, plus our Thursday features: Arancini ($12) and a Whirlaway Manhattan ($9).
URL:https://thederbytavern.com/event/unwind-with-us-thursday-happy-hour/2027-09-02/
LOCATION:The Derby Tavern\, 3686 32nd Ave Ste 300\, Hudsonville\, MI\, 49426\, United States
CATEGORIES:Happy Hour
ATTACH;FMTTYPE=image/png:https://thederbytavern.com/wp-content/uploads/2026/04/Screenshot-2026-04-03-at-14.03.31.png
ORGANIZER;CN="The Derby Tavern":MAILTO:info@thederbytavern.com
END:VEVENT
BEGIN:VEVENT
DTSTART;TZID=America/Detroit:20270902T200000
DTEND;TZID=America/Detroit:20270902T220000
DTSTAMP:20260423T072435
CREATED:20260401T212842Z
LAST-MODIFIED:20260402T180252Z
UID:10001418-1819915200-1819922400@thederbytavern.com
SUMMARY:Unwind With Us - Thursday Late Night
DESCRIPTION:Unwind With Us every Thursday evening! Enjoy $1 off drafts and $2 off wine\, plus our Thursday features: Arancini ($12) and a Whirlaway Manhattan ($9).
URL:https://thederbytavern.com/event/unwind-with-us-thursday-late-night/2027-09-02/
LOCATION:The Derby Tavern\, 3686 32nd Ave Ste 300\, Hudsonville\, MI\, 49426\, United States
CATEGORIES:Happy Hour
ORGANIZER;CN="The Derby Tavern":MAILTO:info@thederbytavern.com
END:VEVENT
BEGIN:VEVENT
DTSTART;TZID=America/Detroit:20270907T150000
DTEND;TZID=America/Detroit:20270907T170000
DTSTAMP:20260423T072436
CREATED:20260401T211930Z
LAST-MODIFIED:20260403T180651Z
UID:10000112-1820329200-1820336400@thederbytavern.com
SUMMARY:Unwind With Us - Tuesday Happy Hour
DESCRIPTION:Unwind With Us every Tuesday afternoon! Enjoy $1 off drafts and $2 off wine\, plus our Tuesday features: Nachos ($12) and a Mustang Margarita ($8).
URL:https://thederbytavern.com/event/unwind-with-us-tuesday-happy-hour/2027-09-07/
LOCATION:The Derby Tavern\, 3686 32nd Ave Ste 300\, Hudsonville\, MI\, 49426\, United States
CATEGORIES:Happy Hour
ATTACH;FMTTYPE=image/png:https://thederbytavern.com/wp-content/uploads/2026/04/Screenshot-2026-04-03-at-14.03.31.png
ORGANIZER;CN="The Derby Tavern":MAILTO:info@thederbytavern.com
END:VEVENT
BEGIN:VEVENT
DTSTART;TZID=America/Detroit:20270907T200000
DTEND;TZID=America/Detroit:20270907T220000
DTSTAMP:20260423T072436
CREATED:20260401T212408Z
LAST-MODIFIED:20260403T180620Z
UID:10000374-1820347200-1820354400@thederbytavern.com
SUMMARY:Unwind With Us - Tuesday Late Night
DESCRIPTION:Unwind With Us every Tuesday evening! Enjoy $1 off drafts and $2 off wine\, plus our Tuesday features: Nachos ($12) and a Mustang Margarita ($8).
URL:https://thederbytavern.com/event/unwind-with-us-tuesday-late-night/2027-09-07/
LOCATION:The Derby Tavern\, 3686 32nd Ave Ste 300\, Hudsonville\, MI\, 49426\, United States
CATEGORIES:Happy Hour
ATTACH;FMTTYPE=image/png:https://thederbytavern.com/wp-content/uploads/2026/04/Screenshot-2026-04-03-at-14.03.31.png
ORGANIZER;CN="The Derby Tavern":MAILTO:info@thederbytavern.com
END:VEVENT
BEGIN:VEVENT
DTSTART;TZID=America/Detroit:20270908T150000
DTEND;TZID=America/Detroit:20270908T170000
DTSTAMP:20260423T072436
CREATED:20260401T212458Z
LAST-MODIFIED:20260403T180944Z
UID:10000636-1820415600-1820422800@thederbytavern.com
SUMMARY:Unwind With Us - Wednesday Happy Hour
DESCRIPTION:Unwind With Us every Wednesday afternoon! Enjoy $1 off drafts and $2 off wine\, plus our Wednesday features: Harissa Shrimp ($14) and a Big Joe ($10).
URL:https://thederbytavern.com/event/unwind-with-us-wednesday-happy-hour/2027-09-08/
LOCATION:The Derby Tavern\, 3686 32nd Ave Ste 300\, Hudsonville\, MI\, 49426\, United States
CATEGORIES:Happy Hour
ATTACH;FMTTYPE=image/png:https://thederbytavern.com/wp-content/uploads/2026/04/Screenshot-2026-04-03-at-14.03.31.png
ORGANIZER;CN="The Derby Tavern":MAILTO:info@thederbytavern.com
END:VEVENT
BEGIN:VEVENT
DTSTART;TZID=America/Detroit:20270908T200000
DTEND;TZID=America/Detroit:20270908T220000
DTSTAMP:20260423T072436
CREATED:20260401T212703Z
LAST-MODIFIED:20260403T180904Z
UID:10000897-1820433600-1820440800@thederbytavern.com
SUMMARY:Unwind With Us - Wednesday Late Night
DESCRIPTION:Unwind With Us every Wednesday evening! Enjoy $1 off drafts and $2 off wine\, plus our Wednesday features: Harissa Shrimp ($14) and a Big Joe ($10).
URL:https://thederbytavern.com/event/unwind-with-us-wednesday-late-night/2027-09-08/
LOCATION:The Derby Tavern\, 3686 32nd Ave Ste 300\, Hudsonville\, MI\, 49426\, United States
CATEGORIES:Happy Hour
ATTACH;FMTTYPE=image/png:https://thederbytavern.com/wp-content/uploads/2026/04/Screenshot-2026-04-03-at-14.03.31.png
ORGANIZER;CN="The Derby Tavern":MAILTO:info@thederbytavern.com
END:VEVENT
BEGIN:VEVENT
DTSTART;TZID=America/Detroit:20270909T150000
DTEND;TZID=America/Detroit:20270909T170000
DTSTAMP:20260423T072436
CREATED:20260401T212759Z
LAST-MODIFIED:20260403T180750Z
UID:10001158-1820502000-1820509200@thederbytavern.com
SUMMARY:Unwind With Us - Thursday Happy Hour
DESCRIPTION:Unwind With Us every Thursday afternoon! Enjoy $1 off drafts and $2 off wine\, plus our Thursday features: Arancini ($12) and a Whirlaway Manhattan ($9).
URL:https://thederbytavern.com/event/unwind-with-us-thursday-happy-hour/2027-09-09/
LOCATION:The Derby Tavern\, 3686 32nd Ave Ste 300\, Hudsonville\, MI\, 49426\, United States
CATEGORIES:Happy Hour
ATTACH;FMTTYPE=image/png:https://thederbytavern.com/wp-content/uploads/2026/04/Screenshot-2026-04-03-at-14.03.31.png
ORGANIZER;CN="The Derby Tavern":MAILTO:info@thederbytavern.com
END:VEVENT
BEGIN:VEVENT
DTSTART;TZID=America/Detroit:20270909T200000
DTEND;TZID=America/Detroit:20270909T220000
DTSTAMP:20260423T072436
CREATED:20260401T212842Z
LAST-MODIFIED:20260402T180252Z
UID:10001419-1820520000-1820527200@thederbytavern.com
SUMMARY:Unwind With Us - Thursday Late Night
DESCRIPTION:Unwind With Us every Thursday evening! Enjoy $1 off drafts and $2 off wine\, plus our Thursday features: Arancini ($12) and a Whirlaway Manhattan ($9).
URL:https://thederbytavern.com/event/unwind-with-us-thursday-late-night/2027-09-09/
LOCATION:The Derby Tavern\, 3686 32nd Ave Ste 300\, Hudsonville\, MI\, 49426\, United States
CATEGORIES:Happy Hour
ORGANIZER;CN="The Derby Tavern":MAILTO:info@thederbytavern.com
END:VEVENT
BEGIN:VEVENT
DTSTART;TZID=America/Detroit:20270914T150000
DTEND;TZID=America/Detroit:20270914T170000
DTSTAMP:20260423T072436
CREATED:20260401T211930Z
LAST-MODIFIED:20260403T180651Z
UID:10000113-1820934000-1820941200@thederbytavern.com
SUMMARY:Unwind With Us - Tuesday Happy Hour
DESCRIPTION:Unwind With Us every Tuesday afternoon! Enjoy $1 off drafts and $2 off wine\, plus our Tuesday features: Nachos ($12) and a Mustang Margarita ($8).
URL:https://thederbytavern.com/event/unwind-with-us-tuesday-happy-hour/2027-09-14/
LOCATION:The Derby Tavern\, 3686 32nd Ave Ste 300\, Hudsonville\, MI\, 49426\, United States
CATEGORIES:Happy Hour
ATTACH;FMTTYPE=image/png:https://thederbytavern.com/wp-content/uploads/2026/04/Screenshot-2026-04-03-at-14.03.31.png
ORGANIZER;CN="The Derby Tavern":MAILTO:info@thederbytavern.com
END:VEVENT
BEGIN:VEVENT
DTSTART;TZID=America/Detroit:20270914T200000
DTEND;TZID=America/Detroit:20270914T220000
DTSTAMP:20260423T072436
CREATED:20260401T212408Z
LAST-MODIFIED:20260403T180620Z
UID:10000375-1820952000-1820959200@thederbytavern.com
SUMMARY:Unwind With Us - Tuesday Late Night
DESCRIPTION:Unwind With Us every Tuesday evening! Enjoy $1 off drafts and $2 off wine\, plus our Tuesday features: Nachos ($12) and a Mustang Margarita ($8).
URL:https://thederbytavern.com/event/unwind-with-us-tuesday-late-night/2027-09-14/
LOCATION:The Derby Tavern\, 3686 32nd Ave Ste 300\, Hudsonville\, MI\, 49426\, United States
CATEGORIES:Happy Hour
ATTACH;FMTTYPE=image/png:https://thederbytavern.com/wp-content/uploads/2026/04/Screenshot-2026-04-03-at-14.03.31.png
ORGANIZER;CN="The Derby Tavern":MAILTO:info@thederbytavern.com
END:VEVENT
END:VCALENDAR