BEGIN:VCALENDAR
VERSION:2.0
PRODID:-//The Derby Tavern - ECPv6.15.17//NONSGML v1.0//EN
CALSCALE:GREGORIAN
METHOD:PUBLISH
X-WR-CALNAME:The Derby Tavern
X-ORIGINAL-URL:https://thederbytavern.com
X-WR-CALDESC:Events for The Derby Tavern
REFRESH-INTERVAL;VALUE=DURATION:PT1H
X-Robots-Tag:noindex
X-PUBLISHED-TTL:PT1H
BEGIN:VTIMEZONE
TZID:America/Detroit
BEGIN:DAYLIGHT
TZOFFSETFROM:-0500
TZOFFSETTO:-0400
TZNAME:EDT
DTSTART:20260308T070000
END:DAYLIGHT
BEGIN:STANDARD
TZOFFSETFROM:-0400
TZOFFSETTO:-0500
TZNAME:EST
DTSTART:20261101T060000
END:STANDARD
BEGIN:DAYLIGHT
TZOFFSETFROM:-0500
TZOFFSETTO:-0400
TZNAME:EDT
DTSTART:20270314T070000
END:DAYLIGHT
BEGIN:STANDARD
TZOFFSETFROM:-0400
TZOFFSETTO:-0500
TZNAME:EST
DTSTART:20271107T060000
END:STANDARD
BEGIN:DAYLIGHT
TZOFFSETFROM:-0500
TZOFFSETTO:-0400
TZNAME:EDT
DTSTART:20280312T070000
END:DAYLIGHT
BEGIN:STANDARD
TZOFFSETFROM:-0400
TZOFFSETTO:-0500
TZNAME:EST
DTSTART:20281105T060000
END:STANDARD
END:VTIMEZONE
BEGIN:VEVENT
DTSTART;TZID=America/Detroit:20270622T150000
DTEND;TZID=America/Detroit:20270622T170000
DTSTAMP:20260422T153534
CREATED:20260401T211930Z
LAST-MODIFIED:20260403T180651Z
UID:10000101-1813676400-1813683600@thederbytavern.com
SUMMARY:Unwind With Us - Tuesday Happy Hour
DESCRIPTION:Unwind With Us every Tuesday afternoon! Enjoy $1 off drafts and $2 off wine\, plus our Tuesday features: Nachos ($12) and a Mustang Margarita ($8).
URL:https://thederbytavern.com/event/unwind-with-us-tuesday-happy-hour/2027-06-22/
LOCATION:The Derby Tavern\, 3686 32nd Ave Ste 300\, Hudsonville\, MI\, 49426\, United States
CATEGORIES:Happy Hour
ATTACH;FMTTYPE=image/png:https://thederbytavern.com/wp-content/uploads/2026/04/Screenshot-2026-04-03-at-14.03.31.png
ORGANIZER;CN="The Derby Tavern":MAILTO:info@thederbytavern.com
END:VEVENT
BEGIN:VEVENT
DTSTART;TZID=America/Detroit:20270622T200000
DTEND;TZID=America/Detroit:20270622T220000
DTSTAMP:20260422T153534
CREATED:20260401T212408Z
LAST-MODIFIED:20260403T180620Z
UID:10000363-1813694400-1813701600@thederbytavern.com
SUMMARY:Unwind With Us - Tuesday Late Night
DESCRIPTION:Unwind With Us every Tuesday evening! Enjoy $1 off drafts and $2 off wine\, plus our Tuesday features: Nachos ($12) and a Mustang Margarita ($8).
URL:https://thederbytavern.com/event/unwind-with-us-tuesday-late-night/2027-06-22/
LOCATION:The Derby Tavern\, 3686 32nd Ave Ste 300\, Hudsonville\, MI\, 49426\, United States
CATEGORIES:Happy Hour
ATTACH;FMTTYPE=image/png:https://thederbytavern.com/wp-content/uploads/2026/04/Screenshot-2026-04-03-at-14.03.31.png
ORGANIZER;CN="The Derby Tavern":MAILTO:info@thederbytavern.com
END:VEVENT
BEGIN:VEVENT
DTSTART;TZID=America/Detroit:20270623T150000
DTEND;TZID=America/Detroit:20270623T170000
DTSTAMP:20260422T153534
CREATED:20260401T212458Z
LAST-MODIFIED:20260403T180944Z
UID:10000625-1813762800-1813770000@thederbytavern.com
SUMMARY:Unwind With Us - Wednesday Happy Hour
DESCRIPTION:Unwind With Us every Wednesday afternoon! Enjoy $1 off drafts and $2 off wine\, plus our Wednesday features: Harissa Shrimp ($14) and a Big Joe ($10).
URL:https://thederbytavern.com/event/unwind-with-us-wednesday-happy-hour/2027-06-23/
LOCATION:The Derby Tavern\, 3686 32nd Ave Ste 300\, Hudsonville\, MI\, 49426\, United States
CATEGORIES:Happy Hour
ATTACH;FMTTYPE=image/png:https://thederbytavern.com/wp-content/uploads/2026/04/Screenshot-2026-04-03-at-14.03.31.png
ORGANIZER;CN="The Derby Tavern":MAILTO:info@thederbytavern.com
END:VEVENT
BEGIN:VEVENT
DTSTART;TZID=America/Detroit:20270623T200000
DTEND;TZID=America/Detroit:20270623T220000
DTSTAMP:20260422T153534
CREATED:20260401T212703Z
LAST-MODIFIED:20260403T180904Z
UID:10000886-1813780800-1813788000@thederbytavern.com
SUMMARY:Unwind With Us - Wednesday Late Night
DESCRIPTION:Unwind With Us every Wednesday evening! Enjoy $1 off drafts and $2 off wine\, plus our Wednesday features: Harissa Shrimp ($14) and a Big Joe ($10).
URL:https://thederbytavern.com/event/unwind-with-us-wednesday-late-night/2027-06-23/
LOCATION:The Derby Tavern\, 3686 32nd Ave Ste 300\, Hudsonville\, MI\, 49426\, United States
CATEGORIES:Happy Hour
ATTACH;FMTTYPE=image/png:https://thederbytavern.com/wp-content/uploads/2026/04/Screenshot-2026-04-03-at-14.03.31.png
ORGANIZER;CN="The Derby Tavern":MAILTO:info@thederbytavern.com
END:VEVENT
BEGIN:VEVENT
DTSTART;TZID=America/Detroit:20270624T150000
DTEND;TZID=America/Detroit:20270624T170000
DTSTAMP:20260422T153534
CREATED:20260401T212759Z
LAST-MODIFIED:20260403T180750Z
UID:10001147-1813849200-1813856400@thederbytavern.com
SUMMARY:Unwind With Us - Thursday Happy Hour
DESCRIPTION:Unwind With Us every Thursday afternoon! Enjoy $1 off drafts and $2 off wine\, plus our Thursday features: Arancini ($12) and a Whirlaway Manhattan ($9).
URL:https://thederbytavern.com/event/unwind-with-us-thursday-happy-hour/2027-06-24/
LOCATION:The Derby Tavern\, 3686 32nd Ave Ste 300\, Hudsonville\, MI\, 49426\, United States
CATEGORIES:Happy Hour
ATTACH;FMTTYPE=image/png:https://thederbytavern.com/wp-content/uploads/2026/04/Screenshot-2026-04-03-at-14.03.31.png
ORGANIZER;CN="The Derby Tavern":MAILTO:info@thederbytavern.com
END:VEVENT
BEGIN:VEVENT
DTSTART;TZID=America/Detroit:20270624T200000
DTEND;TZID=America/Detroit:20270624T220000
DTSTAMP:20260422T153534
CREATED:20260401T212842Z
LAST-MODIFIED:20260402T180252Z
UID:10001408-1813867200-1813874400@thederbytavern.com
SUMMARY:Unwind With Us - Thursday Late Night
DESCRIPTION:Unwind With Us every Thursday evening! Enjoy $1 off drafts and $2 off wine\, plus our Thursday features: Arancini ($12) and a Whirlaway Manhattan ($9).
URL:https://thederbytavern.com/event/unwind-with-us-thursday-late-night/2027-06-24/
LOCATION:The Derby Tavern\, 3686 32nd Ave Ste 300\, Hudsonville\, MI\, 49426\, United States
CATEGORIES:Happy Hour
ORGANIZER;CN="The Derby Tavern":MAILTO:info@thederbytavern.com
END:VEVENT
BEGIN:VEVENT
DTSTART;TZID=America/Detroit:20270629T150000
DTEND;TZID=America/Detroit:20270629T170000
DTSTAMP:20260422T153534
CREATED:20260401T211930Z
LAST-MODIFIED:20260403T180651Z
UID:10000102-1814281200-1814288400@thederbytavern.com
SUMMARY:Unwind With Us - Tuesday Happy Hour
DESCRIPTION:Unwind With Us every Tuesday afternoon! Enjoy $1 off drafts and $2 off wine\, plus our Tuesday features: Nachos ($12) and a Mustang Margarita ($8).
URL:https://thederbytavern.com/event/unwind-with-us-tuesday-happy-hour/2027-06-29/
LOCATION:The Derby Tavern\, 3686 32nd Ave Ste 300\, Hudsonville\, MI\, 49426\, United States
CATEGORIES:Happy Hour
ATTACH;FMTTYPE=image/png:https://thederbytavern.com/wp-content/uploads/2026/04/Screenshot-2026-04-03-at-14.03.31.png
ORGANIZER;CN="The Derby Tavern":MAILTO:info@thederbytavern.com
END:VEVENT
BEGIN:VEVENT
DTSTART;TZID=America/Detroit:20270629T200000
DTEND;TZID=America/Detroit:20270629T220000
DTSTAMP:20260422T153534
CREATED:20260401T212408Z
LAST-MODIFIED:20260403T180620Z
UID:10000364-1814299200-1814306400@thederbytavern.com
SUMMARY:Unwind With Us - Tuesday Late Night
DESCRIPTION:Unwind With Us every Tuesday evening! Enjoy $1 off drafts and $2 off wine\, plus our Tuesday features: Nachos ($12) and a Mustang Margarita ($8).
URL:https://thederbytavern.com/event/unwind-with-us-tuesday-late-night/2027-06-29/
LOCATION:The Derby Tavern\, 3686 32nd Ave Ste 300\, Hudsonville\, MI\, 49426\, United States
CATEGORIES:Happy Hour
ATTACH;FMTTYPE=image/png:https://thederbytavern.com/wp-content/uploads/2026/04/Screenshot-2026-04-03-at-14.03.31.png
ORGANIZER;CN="The Derby Tavern":MAILTO:info@thederbytavern.com
END:VEVENT
BEGIN:VEVENT
DTSTART;TZID=America/Detroit:20270630T150000
DTEND;TZID=America/Detroit:20270630T170000
DTSTAMP:20260422T153534
CREATED:20260401T212458Z
LAST-MODIFIED:20260403T180944Z
UID:10000626-1814367600-1814374800@thederbytavern.com
SUMMARY:Unwind With Us - Wednesday Happy Hour
DESCRIPTION:Unwind With Us every Wednesday afternoon! Enjoy $1 off drafts and $2 off wine\, plus our Wednesday features: Harissa Shrimp ($14) and a Big Joe ($10).
URL:https://thederbytavern.com/event/unwind-with-us-wednesday-happy-hour/2027-06-30/
LOCATION:The Derby Tavern\, 3686 32nd Ave Ste 300\, Hudsonville\, MI\, 49426\, United States
CATEGORIES:Happy Hour
ATTACH;FMTTYPE=image/png:https://thederbytavern.com/wp-content/uploads/2026/04/Screenshot-2026-04-03-at-14.03.31.png
ORGANIZER;CN="The Derby Tavern":MAILTO:info@thederbytavern.com
END:VEVENT
BEGIN:VEVENT
DTSTART;TZID=America/Detroit:20270630T200000
DTEND;TZID=America/Detroit:20270630T220000
DTSTAMP:20260422T153534
CREATED:20260401T212703Z
LAST-MODIFIED:20260403T180904Z
UID:10000887-1814385600-1814392800@thederbytavern.com
SUMMARY:Unwind With Us - Wednesday Late Night
DESCRIPTION:Unwind With Us every Wednesday evening! Enjoy $1 off drafts and $2 off wine\, plus our Wednesday features: Harissa Shrimp ($14) and a Big Joe ($10).
URL:https://thederbytavern.com/event/unwind-with-us-wednesday-late-night/2027-06-30/
LOCATION:The Derby Tavern\, 3686 32nd Ave Ste 300\, Hudsonville\, MI\, 49426\, United States
CATEGORIES:Happy Hour
ATTACH;FMTTYPE=image/png:https://thederbytavern.com/wp-content/uploads/2026/04/Screenshot-2026-04-03-at-14.03.31.png
ORGANIZER;CN="The Derby Tavern":MAILTO:info@thederbytavern.com
END:VEVENT
BEGIN:VEVENT
DTSTART;TZID=America/Detroit:20270701T150000
DTEND;TZID=America/Detroit:20270701T170000
DTSTAMP:20260422T153534
CREATED:20260401T212759Z
LAST-MODIFIED:20260403T180750Z
UID:10001148-1814454000-1814461200@thederbytavern.com
SUMMARY:Unwind With Us - Thursday Happy Hour
DESCRIPTION:Unwind With Us every Thursday afternoon! Enjoy $1 off drafts and $2 off wine\, plus our Thursday features: Arancini ($12) and a Whirlaway Manhattan ($9).
URL:https://thederbytavern.com/event/unwind-with-us-thursday-happy-hour/2027-07-01/
LOCATION:The Derby Tavern\, 3686 32nd Ave Ste 300\, Hudsonville\, MI\, 49426\, United States
CATEGORIES:Happy Hour
ATTACH;FMTTYPE=image/png:https://thederbytavern.com/wp-content/uploads/2026/04/Screenshot-2026-04-03-at-14.03.31.png
ORGANIZER;CN="The Derby Tavern":MAILTO:info@thederbytavern.com
END:VEVENT
BEGIN:VEVENT
DTSTART;TZID=America/Detroit:20270701T200000
DTEND;TZID=America/Detroit:20270701T220000
DTSTAMP:20260422T153534
CREATED:20260401T212842Z
LAST-MODIFIED:20260402T180252Z
UID:10001409-1814472000-1814479200@thederbytavern.com
SUMMARY:Unwind With Us - Thursday Late Night
DESCRIPTION:Unwind With Us every Thursday evening! Enjoy $1 off drafts and $2 off wine\, plus our Thursday features: Arancini ($12) and a Whirlaway Manhattan ($9).
URL:https://thederbytavern.com/event/unwind-with-us-thursday-late-night/2027-07-01/
LOCATION:The Derby Tavern\, 3686 32nd Ave Ste 300\, Hudsonville\, MI\, 49426\, United States
CATEGORIES:Happy Hour
ORGANIZER;CN="The Derby Tavern":MAILTO:info@thederbytavern.com
END:VEVENT
BEGIN:VEVENT
DTSTART;TZID=America/Detroit:20270706T150000
DTEND;TZID=America/Detroit:20270706T170000
DTSTAMP:20260422T153534
CREATED:20260401T211930Z
LAST-MODIFIED:20260403T180651Z
UID:10000103-1814886000-1814893200@thederbytavern.com
SUMMARY:Unwind With Us - Tuesday Happy Hour
DESCRIPTION:Unwind With Us every Tuesday afternoon! Enjoy $1 off drafts and $2 off wine\, plus our Tuesday features: Nachos ($12) and a Mustang Margarita ($8).
URL:https://thederbytavern.com/event/unwind-with-us-tuesday-happy-hour/2027-07-06/
LOCATION:The Derby Tavern\, 3686 32nd Ave Ste 300\, Hudsonville\, MI\, 49426\, United States
CATEGORIES:Happy Hour
ATTACH;FMTTYPE=image/png:https://thederbytavern.com/wp-content/uploads/2026/04/Screenshot-2026-04-03-at-14.03.31.png
ORGANIZER;CN="The Derby Tavern":MAILTO:info@thederbytavern.com
END:VEVENT
BEGIN:VEVENT
DTSTART;TZID=America/Detroit:20270706T200000
DTEND;TZID=America/Detroit:20270706T220000
DTSTAMP:20260422T153534
CREATED:20260401T212408Z
LAST-MODIFIED:20260403T180620Z
UID:10000365-1814904000-1814911200@thederbytavern.com
SUMMARY:Unwind With Us - Tuesday Late Night
DESCRIPTION:Unwind With Us every Tuesday evening! Enjoy $1 off drafts and $2 off wine\, plus our Tuesday features: Nachos ($12) and a Mustang Margarita ($8).
URL:https://thederbytavern.com/event/unwind-with-us-tuesday-late-night/2027-07-06/
LOCATION:The Derby Tavern\, 3686 32nd Ave Ste 300\, Hudsonville\, MI\, 49426\, United States
CATEGORIES:Happy Hour
ATTACH;FMTTYPE=image/png:https://thederbytavern.com/wp-content/uploads/2026/04/Screenshot-2026-04-03-at-14.03.31.png
ORGANIZER;CN="The Derby Tavern":MAILTO:info@thederbytavern.com
END:VEVENT
BEGIN:VEVENT
DTSTART;TZID=America/Detroit:20270707T150000
DTEND;TZID=America/Detroit:20270707T170000
DTSTAMP:20260422T153534
CREATED:20260401T212458Z
LAST-MODIFIED:20260403T180944Z
UID:10000627-1814972400-1814979600@thederbytavern.com
SUMMARY:Unwind With Us - Wednesday Happy Hour
DESCRIPTION:Unwind With Us every Wednesday afternoon! Enjoy $1 off drafts and $2 off wine\, plus our Wednesday features: Harissa Shrimp ($14) and a Big Joe ($10).
URL:https://thederbytavern.com/event/unwind-with-us-wednesday-happy-hour/2027-07-07/
LOCATION:The Derby Tavern\, 3686 32nd Ave Ste 300\, Hudsonville\, MI\, 49426\, United States
CATEGORIES:Happy Hour
ATTACH;FMTTYPE=image/png:https://thederbytavern.com/wp-content/uploads/2026/04/Screenshot-2026-04-03-at-14.03.31.png
ORGANIZER;CN="The Derby Tavern":MAILTO:info@thederbytavern.com
END:VEVENT
BEGIN:VEVENT
DTSTART;TZID=America/Detroit:20270707T200000
DTEND;TZID=America/Detroit:20270707T220000
DTSTAMP:20260422T153534
CREATED:20260401T212703Z
LAST-MODIFIED:20260403T180904Z
UID:10000888-1814990400-1814997600@thederbytavern.com
SUMMARY:Unwind With Us - Wednesday Late Night
DESCRIPTION:Unwind With Us every Wednesday evening! Enjoy $1 off drafts and $2 off wine\, plus our Wednesday features: Harissa Shrimp ($14) and a Big Joe ($10).
URL:https://thederbytavern.com/event/unwind-with-us-wednesday-late-night/2027-07-07/
LOCATION:The Derby Tavern\, 3686 32nd Ave Ste 300\, Hudsonville\, MI\, 49426\, United States
CATEGORIES:Happy Hour
ATTACH;FMTTYPE=image/png:https://thederbytavern.com/wp-content/uploads/2026/04/Screenshot-2026-04-03-at-14.03.31.png
ORGANIZER;CN="The Derby Tavern":MAILTO:info@thederbytavern.com
END:VEVENT
BEGIN:VEVENT
DTSTART;TZID=America/Detroit:20270708T150000
DTEND;TZID=America/Detroit:20270708T170000
DTSTAMP:20260422T153534
CREATED:20260401T212759Z
LAST-MODIFIED:20260403T180750Z
UID:10001149-1815058800-1815066000@thederbytavern.com
SUMMARY:Unwind With Us - Thursday Happy Hour
DESCRIPTION:Unwind With Us every Thursday afternoon! Enjoy $1 off drafts and $2 off wine\, plus our Thursday features: Arancini ($12) and a Whirlaway Manhattan ($9).
URL:https://thederbytavern.com/event/unwind-with-us-thursday-happy-hour/2027-07-08/
LOCATION:The Derby Tavern\, 3686 32nd Ave Ste 300\, Hudsonville\, MI\, 49426\, United States
CATEGORIES:Happy Hour
ATTACH;FMTTYPE=image/png:https://thederbytavern.com/wp-content/uploads/2026/04/Screenshot-2026-04-03-at-14.03.31.png
ORGANIZER;CN="The Derby Tavern":MAILTO:info@thederbytavern.com
END:VEVENT
BEGIN:VEVENT
DTSTART;TZID=America/Detroit:20270708T200000
DTEND;TZID=America/Detroit:20270708T220000
DTSTAMP:20260422T153534
CREATED:20260401T212842Z
LAST-MODIFIED:20260402T180252Z
UID:10001410-1815076800-1815084000@thederbytavern.com
SUMMARY:Unwind With Us - Thursday Late Night
DESCRIPTION:Unwind With Us every Thursday evening! Enjoy $1 off drafts and $2 off wine\, plus our Thursday features: Arancini ($12) and a Whirlaway Manhattan ($9).
URL:https://thederbytavern.com/event/unwind-with-us-thursday-late-night/2027-07-08/
LOCATION:The Derby Tavern\, 3686 32nd Ave Ste 300\, Hudsonville\, MI\, 49426\, United States
CATEGORIES:Happy Hour
ORGANIZER;CN="The Derby Tavern":MAILTO:info@thederbytavern.com
END:VEVENT
BEGIN:VEVENT
DTSTART;TZID=America/Detroit:20270713T150000
DTEND;TZID=America/Detroit:20270713T170000
DTSTAMP:20260422T153534
CREATED:20260401T211930Z
LAST-MODIFIED:20260403T180651Z
UID:10000104-1815490800-1815498000@thederbytavern.com
SUMMARY:Unwind With Us - Tuesday Happy Hour
DESCRIPTION:Unwind With Us every Tuesday afternoon! Enjoy $1 off drafts and $2 off wine\, plus our Tuesday features: Nachos ($12) and a Mustang Margarita ($8).
URL:https://thederbytavern.com/event/unwind-with-us-tuesday-happy-hour/2027-07-13/
LOCATION:The Derby Tavern\, 3686 32nd Ave Ste 300\, Hudsonville\, MI\, 49426\, United States
CATEGORIES:Happy Hour
ATTACH;FMTTYPE=image/png:https://thederbytavern.com/wp-content/uploads/2026/04/Screenshot-2026-04-03-at-14.03.31.png
ORGANIZER;CN="The Derby Tavern":MAILTO:info@thederbytavern.com
END:VEVENT
BEGIN:VEVENT
DTSTART;TZID=America/Detroit:20270713T200000
DTEND;TZID=America/Detroit:20270713T220000
DTSTAMP:20260422T153534
CREATED:20260401T212408Z
LAST-MODIFIED:20260403T180620Z
UID:10000366-1815508800-1815516000@thederbytavern.com
SUMMARY:Unwind With Us - Tuesday Late Night
DESCRIPTION:Unwind With Us every Tuesday evening! Enjoy $1 off drafts and $2 off wine\, plus our Tuesday features: Nachos ($12) and a Mustang Margarita ($8).
URL:https://thederbytavern.com/event/unwind-with-us-tuesday-late-night/2027-07-13/
LOCATION:The Derby Tavern\, 3686 32nd Ave Ste 300\, Hudsonville\, MI\, 49426\, United States
CATEGORIES:Happy Hour
ATTACH;FMTTYPE=image/png:https://thederbytavern.com/wp-content/uploads/2026/04/Screenshot-2026-04-03-at-14.03.31.png
ORGANIZER;CN="The Derby Tavern":MAILTO:info@thederbytavern.com
END:VEVENT
BEGIN:VEVENT
DTSTART;TZID=America/Detroit:20270714T150000
DTEND;TZID=America/Detroit:20270714T170000
DTSTAMP:20260422T153534
CREATED:20260401T212458Z
LAST-MODIFIED:20260403T180944Z
UID:10000628-1815577200-1815584400@thederbytavern.com
SUMMARY:Unwind With Us - Wednesday Happy Hour
DESCRIPTION:Unwind With Us every Wednesday afternoon! Enjoy $1 off drafts and $2 off wine\, plus our Wednesday features: Harissa Shrimp ($14) and a Big Joe ($10).
URL:https://thederbytavern.com/event/unwind-with-us-wednesday-happy-hour/2027-07-14/
LOCATION:The Derby Tavern\, 3686 32nd Ave Ste 300\, Hudsonville\, MI\, 49426\, United States
CATEGORIES:Happy Hour
ATTACH;FMTTYPE=image/png:https://thederbytavern.com/wp-content/uploads/2026/04/Screenshot-2026-04-03-at-14.03.31.png
ORGANIZER;CN="The Derby Tavern":MAILTO:info@thederbytavern.com
END:VEVENT
BEGIN:VEVENT
DTSTART;TZID=America/Detroit:20270714T200000
DTEND;TZID=America/Detroit:20270714T220000
DTSTAMP:20260422T153534
CREATED:20260401T212703Z
LAST-MODIFIED:20260403T180904Z
UID:10000889-1815595200-1815602400@thederbytavern.com
SUMMARY:Unwind With Us - Wednesday Late Night
DESCRIPTION:Unwind With Us every Wednesday evening! Enjoy $1 off drafts and $2 off wine\, plus our Wednesday features: Harissa Shrimp ($14) and a Big Joe ($10).
URL:https://thederbytavern.com/event/unwind-with-us-wednesday-late-night/2027-07-14/
LOCATION:The Derby Tavern\, 3686 32nd Ave Ste 300\, Hudsonville\, MI\, 49426\, United States
CATEGORIES:Happy Hour
ATTACH;FMTTYPE=image/png:https://thederbytavern.com/wp-content/uploads/2026/04/Screenshot-2026-04-03-at-14.03.31.png
ORGANIZER;CN="The Derby Tavern":MAILTO:info@thederbytavern.com
END:VEVENT
BEGIN:VEVENT
DTSTART;TZID=America/Detroit:20270715T150000
DTEND;TZID=America/Detroit:20270715T170000
DTSTAMP:20260422T153534
CREATED:20260401T212759Z
LAST-MODIFIED:20260403T180750Z
UID:10001150-1815663600-1815670800@thederbytavern.com
SUMMARY:Unwind With Us - Thursday Happy Hour
DESCRIPTION:Unwind With Us every Thursday afternoon! Enjoy $1 off drafts and $2 off wine\, plus our Thursday features: Arancini ($12) and a Whirlaway Manhattan ($9).
URL:https://thederbytavern.com/event/unwind-with-us-thursday-happy-hour/2027-07-15/
LOCATION:The Derby Tavern\, 3686 32nd Ave Ste 300\, Hudsonville\, MI\, 49426\, United States
CATEGORIES:Happy Hour
ATTACH;FMTTYPE=image/png:https://thederbytavern.com/wp-content/uploads/2026/04/Screenshot-2026-04-03-at-14.03.31.png
ORGANIZER;CN="The Derby Tavern":MAILTO:info@thederbytavern.com
END:VEVENT
BEGIN:VEVENT
DTSTART;TZID=America/Detroit:20270715T200000
DTEND;TZID=America/Detroit:20270715T220000
DTSTAMP:20260422T153534
CREATED:20260401T212842Z
LAST-MODIFIED:20260402T180252Z
UID:10001411-1815681600-1815688800@thederbytavern.com
SUMMARY:Unwind With Us - Thursday Late Night
DESCRIPTION:Unwind With Us every Thursday evening! Enjoy $1 off drafts and $2 off wine\, plus our Thursday features: Arancini ($12) and a Whirlaway Manhattan ($9).
URL:https://thederbytavern.com/event/unwind-with-us-thursday-late-night/2027-07-15/
LOCATION:The Derby Tavern\, 3686 32nd Ave Ste 300\, Hudsonville\, MI\, 49426\, United States
CATEGORIES:Happy Hour
ORGANIZER;CN="The Derby Tavern":MAILTO:info@thederbytavern.com
END:VEVENT
BEGIN:VEVENT
DTSTART;TZID=America/Detroit:20270720T150000
DTEND;TZID=America/Detroit:20270720T170000
DTSTAMP:20260422T153534
CREATED:20260401T211930Z
LAST-MODIFIED:20260403T180651Z
UID:10000105-1816095600-1816102800@thederbytavern.com
SUMMARY:Unwind With Us - Tuesday Happy Hour
DESCRIPTION:Unwind With Us every Tuesday afternoon! Enjoy $1 off drafts and $2 off wine\, plus our Tuesday features: Nachos ($12) and a Mustang Margarita ($8).
URL:https://thederbytavern.com/event/unwind-with-us-tuesday-happy-hour/2027-07-20/
LOCATION:The Derby Tavern\, 3686 32nd Ave Ste 300\, Hudsonville\, MI\, 49426\, United States
CATEGORIES:Happy Hour
ATTACH;FMTTYPE=image/png:https://thederbytavern.com/wp-content/uploads/2026/04/Screenshot-2026-04-03-at-14.03.31.png
ORGANIZER;CN="The Derby Tavern":MAILTO:info@thederbytavern.com
END:VEVENT
BEGIN:VEVENT
DTSTART;TZID=America/Detroit:20270720T200000
DTEND;TZID=America/Detroit:20270720T220000
DTSTAMP:20260422T153534
CREATED:20260401T212408Z
LAST-MODIFIED:20260403T180620Z
UID:10000367-1816113600-1816120800@thederbytavern.com
SUMMARY:Unwind With Us - Tuesday Late Night
DESCRIPTION:Unwind With Us every Tuesday evening! Enjoy $1 off drafts and $2 off wine\, plus our Tuesday features: Nachos ($12) and a Mustang Margarita ($8).
URL:https://thederbytavern.com/event/unwind-with-us-tuesday-late-night/2027-07-20/
LOCATION:The Derby Tavern\, 3686 32nd Ave Ste 300\, Hudsonville\, MI\, 49426\, United States
CATEGORIES:Happy Hour
ATTACH;FMTTYPE=image/png:https://thederbytavern.com/wp-content/uploads/2026/04/Screenshot-2026-04-03-at-14.03.31.png
ORGANIZER;CN="The Derby Tavern":MAILTO:info@thederbytavern.com
END:VEVENT
BEGIN:VEVENT
DTSTART;TZID=America/Detroit:20270721T150000
DTEND;TZID=America/Detroit:20270721T170000
DTSTAMP:20260422T153534
CREATED:20260401T212458Z
LAST-MODIFIED:20260403T180944Z
UID:10000629-1816182000-1816189200@thederbytavern.com
SUMMARY:Unwind With Us - Wednesday Happy Hour
DESCRIPTION:Unwind With Us every Wednesday afternoon! Enjoy $1 off drafts and $2 off wine\, plus our Wednesday features: Harissa Shrimp ($14) and a Big Joe ($10).
URL:https://thederbytavern.com/event/unwind-with-us-wednesday-happy-hour/2027-07-21/
LOCATION:The Derby Tavern\, 3686 32nd Ave Ste 300\, Hudsonville\, MI\, 49426\, United States
CATEGORIES:Happy Hour
ATTACH;FMTTYPE=image/png:https://thederbytavern.com/wp-content/uploads/2026/04/Screenshot-2026-04-03-at-14.03.31.png
ORGANIZER;CN="The Derby Tavern":MAILTO:info@thederbytavern.com
END:VEVENT
BEGIN:VEVENT
DTSTART;TZID=America/Detroit:20270721T200000
DTEND;TZID=America/Detroit:20270721T220000
DTSTAMP:20260422T153534
CREATED:20260401T212703Z
LAST-MODIFIED:20260403T180904Z
UID:10000890-1816200000-1816207200@thederbytavern.com
SUMMARY:Unwind With Us - Wednesday Late Night
DESCRIPTION:Unwind With Us every Wednesday evening! Enjoy $1 off drafts and $2 off wine\, plus our Wednesday features: Harissa Shrimp ($14) and a Big Joe ($10).
URL:https://thederbytavern.com/event/unwind-with-us-wednesday-late-night/2027-07-21/
LOCATION:The Derby Tavern\, 3686 32nd Ave Ste 300\, Hudsonville\, MI\, 49426\, United States
CATEGORIES:Happy Hour
ATTACH;FMTTYPE=image/png:https://thederbytavern.com/wp-content/uploads/2026/04/Screenshot-2026-04-03-at-14.03.31.png
ORGANIZER;CN="The Derby Tavern":MAILTO:info@thederbytavern.com
END:VEVENT
BEGIN:VEVENT
DTSTART;TZID=America/Detroit:20270722T150000
DTEND;TZID=America/Detroit:20270722T170000
DTSTAMP:20260422T153534
CREATED:20260401T212759Z
LAST-MODIFIED:20260403T180750Z
UID:10001151-1816268400-1816275600@thederbytavern.com
SUMMARY:Unwind With Us - Thursday Happy Hour
DESCRIPTION:Unwind With Us every Thursday afternoon! Enjoy $1 off drafts and $2 off wine\, plus our Thursday features: Arancini ($12) and a Whirlaway Manhattan ($9).
URL:https://thederbytavern.com/event/unwind-with-us-thursday-happy-hour/2027-07-22/
LOCATION:The Derby Tavern\, 3686 32nd Ave Ste 300\, Hudsonville\, MI\, 49426\, United States
CATEGORIES:Happy Hour
ATTACH;FMTTYPE=image/png:https://thederbytavern.com/wp-content/uploads/2026/04/Screenshot-2026-04-03-at-14.03.31.png
ORGANIZER;CN="The Derby Tavern":MAILTO:info@thederbytavern.com
END:VEVENT
BEGIN:VEVENT
DTSTART;TZID=America/Detroit:20270722T200000
DTEND;TZID=America/Detroit:20270722T220000
DTSTAMP:20260422T153534
CREATED:20260401T212842Z
LAST-MODIFIED:20260402T180252Z
UID:10001412-1816286400-1816293600@thederbytavern.com
SUMMARY:Unwind With Us - Thursday Late Night
DESCRIPTION:Unwind With Us every Thursday evening! Enjoy $1 off drafts and $2 off wine\, plus our Thursday features: Arancini ($12) and a Whirlaway Manhattan ($9).
URL:https://thederbytavern.com/event/unwind-with-us-thursday-late-night/2027-07-22/
LOCATION:The Derby Tavern\, 3686 32nd Ave Ste 300\, Hudsonville\, MI\, 49426\, United States
CATEGORIES:Happy Hour
ORGANIZER;CN="The Derby Tavern":MAILTO:info@thederbytavern.com
END:VEVENT
END:VCALENDAR