BEGIN:VCALENDAR
VERSION:2.0
PRODID:-//The Derby Tavern - ECPv6.15.17//NONSGML v1.0//EN
CALSCALE:GREGORIAN
METHOD:PUBLISH
X-ORIGINAL-URL:https://thederbytavern.com
X-WR-CALDESC:Events for The Derby Tavern
REFRESH-INTERVAL;VALUE=DURATION:PT1H
X-Robots-Tag:noindex
X-PUBLISHED-TTL:PT1H
BEGIN:VTIMEZONE
TZID:America/Detroit
BEGIN:DAYLIGHT
TZOFFSETFROM:-0500
TZOFFSETTO:-0400
TZNAME:EDT
DTSTART:20260308T070000
END:DAYLIGHT
BEGIN:STANDARD
TZOFFSETFROM:-0400
TZOFFSETTO:-0500
TZNAME:EST
DTSTART:20261101T060000
END:STANDARD
BEGIN:DAYLIGHT
TZOFFSETFROM:-0500
TZOFFSETTO:-0400
TZNAME:EDT
DTSTART:20270314T070000
END:DAYLIGHT
BEGIN:STANDARD
TZOFFSETFROM:-0400
TZOFFSETTO:-0500
TZNAME:EST
DTSTART:20271107T060000
END:STANDARD
BEGIN:DAYLIGHT
TZOFFSETFROM:-0500
TZOFFSETTO:-0400
TZNAME:EDT
DTSTART:20280312T070000
END:DAYLIGHT
BEGIN:STANDARD
TZOFFSETFROM:-0400
TZOFFSETTO:-0500
TZNAME:EST
DTSTART:20281105T060000
END:STANDARD
END:VTIMEZONE
BEGIN:VEVENT
DTSTART;TZID=America/Detroit:20270601T150000
DTEND;TZID=America/Detroit:20270601T170000
DTSTAMP:20260422T101429
CREATED:20260401T211930Z
LAST-MODIFIED:20260403T180651Z
UID:10000098-1811862000-1811869200@thederbytavern.com
SUMMARY:Unwind With Us - Tuesday Happy Hour
DESCRIPTION:Unwind With Us every Tuesday afternoon! Enjoy $1 off drafts and $2 off wine\, plus our Tuesday features: Nachos ($12) and a Mustang Margarita ($8).
URL:https://thederbytavern.com/event/unwind-with-us-tuesday-happy-hour/2027-06-01/
LOCATION:The Derby Tavern\, 3686 32nd Ave Ste 300\, Hudsonville\, MI\, 49426\, United States
CATEGORIES:Happy Hour
ATTACH;FMTTYPE=image/png:https://thederbytavern.com/wp-content/uploads/2026/04/Screenshot-2026-04-03-at-14.03.31.png
ORGANIZER;CN="The Derby Tavern":MAILTO:info@thederbytavern.com
END:VEVENT
BEGIN:VEVENT
DTSTART;TZID=America/Detroit:20270601T200000
DTEND;TZID=America/Detroit:20270601T220000
DTSTAMP:20260422T101429
CREATED:20260401T212408Z
LAST-MODIFIED:20260403T180620Z
UID:10000360-1811880000-1811887200@thederbytavern.com
SUMMARY:Unwind With Us - Tuesday Late Night
DESCRIPTION:Unwind With Us every Tuesday evening! Enjoy $1 off drafts and $2 off wine\, plus our Tuesday features: Nachos ($12) and a Mustang Margarita ($8).
URL:https://thederbytavern.com/event/unwind-with-us-tuesday-late-night/2027-06-01/
LOCATION:The Derby Tavern\, 3686 32nd Ave Ste 300\, Hudsonville\, MI\, 49426\, United States
CATEGORIES:Happy Hour
ATTACH;FMTTYPE=image/png:https://thederbytavern.com/wp-content/uploads/2026/04/Screenshot-2026-04-03-at-14.03.31.png
ORGANIZER;CN="The Derby Tavern":MAILTO:info@thederbytavern.com
END:VEVENT
BEGIN:VEVENT
DTSTART;TZID=America/Detroit:20270602T150000
DTEND;TZID=America/Detroit:20270602T170000
DTSTAMP:20260422T101429
CREATED:20260401T212458Z
LAST-MODIFIED:20260403T180944Z
UID:10000622-1811948400-1811955600@thederbytavern.com
SUMMARY:Unwind With Us - Wednesday Happy Hour
DESCRIPTION:Unwind With Us every Wednesday afternoon! Enjoy $1 off drafts and $2 off wine\, plus our Wednesday features: Harissa Shrimp ($14) and a Big Joe ($10).
URL:https://thederbytavern.com/event/unwind-with-us-wednesday-happy-hour/2027-06-02/
LOCATION:The Derby Tavern\, 3686 32nd Ave Ste 300\, Hudsonville\, MI\, 49426\, United States
CATEGORIES:Happy Hour
ATTACH;FMTTYPE=image/png:https://thederbytavern.com/wp-content/uploads/2026/04/Screenshot-2026-04-03-at-14.03.31.png
ORGANIZER;CN="The Derby Tavern":MAILTO:info@thederbytavern.com
END:VEVENT
BEGIN:VEVENT
DTSTART;TZID=America/Detroit:20270602T200000
DTEND;TZID=America/Detroit:20270602T220000
DTSTAMP:20260422T101429
CREATED:20260401T212703Z
LAST-MODIFIED:20260403T180904Z
UID:10000883-1811966400-1811973600@thederbytavern.com
SUMMARY:Unwind With Us - Wednesday Late Night
DESCRIPTION:Unwind With Us every Wednesday evening! Enjoy $1 off drafts and $2 off wine\, plus our Wednesday features: Harissa Shrimp ($14) and a Big Joe ($10).
URL:https://thederbytavern.com/event/unwind-with-us-wednesday-late-night/2027-06-02/
LOCATION:The Derby Tavern\, 3686 32nd Ave Ste 300\, Hudsonville\, MI\, 49426\, United States
CATEGORIES:Happy Hour
ATTACH;FMTTYPE=image/png:https://thederbytavern.com/wp-content/uploads/2026/04/Screenshot-2026-04-03-at-14.03.31.png
ORGANIZER;CN="The Derby Tavern":MAILTO:info@thederbytavern.com
END:VEVENT
BEGIN:VEVENT
DTSTART;TZID=America/Detroit:20270603T150000
DTEND;TZID=America/Detroit:20270603T170000
DTSTAMP:20260422T101429
CREATED:20260401T212759Z
LAST-MODIFIED:20260403T180750Z
UID:10001144-1812034800-1812042000@thederbytavern.com
SUMMARY:Unwind With Us - Thursday Happy Hour
DESCRIPTION:Unwind With Us every Thursday afternoon! Enjoy $1 off drafts and $2 off wine\, plus our Thursday features: Arancini ($12) and a Whirlaway Manhattan ($9).
URL:https://thederbytavern.com/event/unwind-with-us-thursday-happy-hour/2027-06-03/
LOCATION:The Derby Tavern\, 3686 32nd Ave Ste 300\, Hudsonville\, MI\, 49426\, United States
CATEGORIES:Happy Hour
ATTACH;FMTTYPE=image/png:https://thederbytavern.com/wp-content/uploads/2026/04/Screenshot-2026-04-03-at-14.03.31.png
ORGANIZER;CN="The Derby Tavern":MAILTO:info@thederbytavern.com
END:VEVENT
BEGIN:VEVENT
DTSTART;TZID=America/Detroit:20270603T200000
DTEND;TZID=America/Detroit:20270603T220000
DTSTAMP:20260422T101429
CREATED:20260401T212842Z
LAST-MODIFIED:20260402T180252Z
UID:10001405-1812052800-1812060000@thederbytavern.com
SUMMARY:Unwind With Us - Thursday Late Night
DESCRIPTION:Unwind With Us every Thursday evening! Enjoy $1 off drafts and $2 off wine\, plus our Thursday features: Arancini ($12) and a Whirlaway Manhattan ($9).
URL:https://thederbytavern.com/event/unwind-with-us-thursday-late-night/2027-06-03/
LOCATION:The Derby Tavern\, 3686 32nd Ave Ste 300\, Hudsonville\, MI\, 49426\, United States
CATEGORIES:Happy Hour
ORGANIZER;CN="The Derby Tavern":MAILTO:info@thederbytavern.com
END:VEVENT
BEGIN:VEVENT
DTSTART;TZID=America/Detroit:20270608T150000
DTEND;TZID=America/Detroit:20270608T170000
DTSTAMP:20260422T101429
CREATED:20260401T211930Z
LAST-MODIFIED:20260403T180651Z
UID:10000099-1812466800-1812474000@thederbytavern.com
SUMMARY:Unwind With Us - Tuesday Happy Hour
DESCRIPTION:Unwind With Us every Tuesday afternoon! Enjoy $1 off drafts and $2 off wine\, plus our Tuesday features: Nachos ($12) and a Mustang Margarita ($8).
URL:https://thederbytavern.com/event/unwind-with-us-tuesday-happy-hour/2027-06-08/
LOCATION:The Derby Tavern\, 3686 32nd Ave Ste 300\, Hudsonville\, MI\, 49426\, United States
CATEGORIES:Happy Hour
ATTACH;FMTTYPE=image/png:https://thederbytavern.com/wp-content/uploads/2026/04/Screenshot-2026-04-03-at-14.03.31.png
ORGANIZER;CN="The Derby Tavern":MAILTO:info@thederbytavern.com
END:VEVENT
BEGIN:VEVENT
DTSTART;TZID=America/Detroit:20270608T200000
DTEND;TZID=America/Detroit:20270608T220000
DTSTAMP:20260422T101429
CREATED:20260401T212408Z
LAST-MODIFIED:20260403T180620Z
UID:10000361-1812484800-1812492000@thederbytavern.com
SUMMARY:Unwind With Us - Tuesday Late Night
DESCRIPTION:Unwind With Us every Tuesday evening! Enjoy $1 off drafts and $2 off wine\, plus our Tuesday features: Nachos ($12) and a Mustang Margarita ($8).
URL:https://thederbytavern.com/event/unwind-with-us-tuesday-late-night/2027-06-08/
LOCATION:The Derby Tavern\, 3686 32nd Ave Ste 300\, Hudsonville\, MI\, 49426\, United States
CATEGORIES:Happy Hour
ATTACH;FMTTYPE=image/png:https://thederbytavern.com/wp-content/uploads/2026/04/Screenshot-2026-04-03-at-14.03.31.png
ORGANIZER;CN="The Derby Tavern":MAILTO:info@thederbytavern.com
END:VEVENT
BEGIN:VEVENT
DTSTART;TZID=America/Detroit:20270609T150000
DTEND;TZID=America/Detroit:20270609T170000
DTSTAMP:20260422T101429
CREATED:20260401T212458Z
LAST-MODIFIED:20260403T180944Z
UID:10000623-1812553200-1812560400@thederbytavern.com
SUMMARY:Unwind With Us - Wednesday Happy Hour
DESCRIPTION:Unwind With Us every Wednesday afternoon! Enjoy $1 off drafts and $2 off wine\, plus our Wednesday features: Harissa Shrimp ($14) and a Big Joe ($10).
URL:https://thederbytavern.com/event/unwind-with-us-wednesday-happy-hour/2027-06-09/
LOCATION:The Derby Tavern\, 3686 32nd Ave Ste 300\, Hudsonville\, MI\, 49426\, United States
CATEGORIES:Happy Hour
ATTACH;FMTTYPE=image/png:https://thederbytavern.com/wp-content/uploads/2026/04/Screenshot-2026-04-03-at-14.03.31.png
ORGANIZER;CN="The Derby Tavern":MAILTO:info@thederbytavern.com
END:VEVENT
BEGIN:VEVENT
DTSTART;TZID=America/Detroit:20270609T200000
DTEND;TZID=America/Detroit:20270609T220000
DTSTAMP:20260422T101429
CREATED:20260401T212703Z
LAST-MODIFIED:20260403T180904Z
UID:10000884-1812571200-1812578400@thederbytavern.com
SUMMARY:Unwind With Us - Wednesday Late Night
DESCRIPTION:Unwind With Us every Wednesday evening! Enjoy $1 off drafts and $2 off wine\, plus our Wednesday features: Harissa Shrimp ($14) and a Big Joe ($10).
URL:https://thederbytavern.com/event/unwind-with-us-wednesday-late-night/2027-06-09/
LOCATION:The Derby Tavern\, 3686 32nd Ave Ste 300\, Hudsonville\, MI\, 49426\, United States
CATEGORIES:Happy Hour
ATTACH;FMTTYPE=image/png:https://thederbytavern.com/wp-content/uploads/2026/04/Screenshot-2026-04-03-at-14.03.31.png
ORGANIZER;CN="The Derby Tavern":MAILTO:info@thederbytavern.com
END:VEVENT
BEGIN:VEVENT
DTSTART;TZID=America/Detroit:20270610T150000
DTEND;TZID=America/Detroit:20270610T170000
DTSTAMP:20260422T101429
CREATED:20260401T212759Z
LAST-MODIFIED:20260403T180750Z
UID:10001145-1812639600-1812646800@thederbytavern.com
SUMMARY:Unwind With Us - Thursday Happy Hour
DESCRIPTION:Unwind With Us every Thursday afternoon! Enjoy $1 off drafts and $2 off wine\, plus our Thursday features: Arancini ($12) and a Whirlaway Manhattan ($9).
URL:https://thederbytavern.com/event/unwind-with-us-thursday-happy-hour/2027-06-10/
LOCATION:The Derby Tavern\, 3686 32nd Ave Ste 300\, Hudsonville\, MI\, 49426\, United States
CATEGORIES:Happy Hour
ATTACH;FMTTYPE=image/png:https://thederbytavern.com/wp-content/uploads/2026/04/Screenshot-2026-04-03-at-14.03.31.png
ORGANIZER;CN="The Derby Tavern":MAILTO:info@thederbytavern.com
END:VEVENT
BEGIN:VEVENT
DTSTART;TZID=America/Detroit:20270610T200000
DTEND;TZID=America/Detroit:20270610T220000
DTSTAMP:20260422T101429
CREATED:20260401T212842Z
LAST-MODIFIED:20260402T180252Z
UID:10001406-1812657600-1812664800@thederbytavern.com
SUMMARY:Unwind With Us - Thursday Late Night
DESCRIPTION:Unwind With Us every Thursday evening! Enjoy $1 off drafts and $2 off wine\, plus our Thursday features: Arancini ($12) and a Whirlaway Manhattan ($9).
URL:https://thederbytavern.com/event/unwind-with-us-thursday-late-night/2027-06-10/
LOCATION:The Derby Tavern\, 3686 32nd Ave Ste 300\, Hudsonville\, MI\, 49426\, United States
CATEGORIES:Happy Hour
ORGANIZER;CN="The Derby Tavern":MAILTO:info@thederbytavern.com
END:VEVENT
BEGIN:VEVENT
DTSTART;TZID=America/Detroit:20270615T150000
DTEND;TZID=America/Detroit:20270615T170000
DTSTAMP:20260422T101429
CREATED:20260401T211930Z
LAST-MODIFIED:20260403T180651Z
UID:10000100-1813071600-1813078800@thederbytavern.com
SUMMARY:Unwind With Us - Tuesday Happy Hour
DESCRIPTION:Unwind With Us every Tuesday afternoon! Enjoy $1 off drafts and $2 off wine\, plus our Tuesday features: Nachos ($12) and a Mustang Margarita ($8).
URL:https://thederbytavern.com/event/unwind-with-us-tuesday-happy-hour/2027-06-15/
LOCATION:The Derby Tavern\, 3686 32nd Ave Ste 300\, Hudsonville\, MI\, 49426\, United States
CATEGORIES:Happy Hour
ATTACH;FMTTYPE=image/png:https://thederbytavern.com/wp-content/uploads/2026/04/Screenshot-2026-04-03-at-14.03.31.png
ORGANIZER;CN="The Derby Tavern":MAILTO:info@thederbytavern.com
END:VEVENT
BEGIN:VEVENT
DTSTART;TZID=America/Detroit:20270615T200000
DTEND;TZID=America/Detroit:20270615T220000
DTSTAMP:20260422T101429
CREATED:20260401T212408Z
LAST-MODIFIED:20260403T180620Z
UID:10000362-1813089600-1813096800@thederbytavern.com
SUMMARY:Unwind With Us - Tuesday Late Night
DESCRIPTION:Unwind With Us every Tuesday evening! Enjoy $1 off drafts and $2 off wine\, plus our Tuesday features: Nachos ($12) and a Mustang Margarita ($8).
URL:https://thederbytavern.com/event/unwind-with-us-tuesday-late-night/2027-06-15/
LOCATION:The Derby Tavern\, 3686 32nd Ave Ste 300\, Hudsonville\, MI\, 49426\, United States
CATEGORIES:Happy Hour
ATTACH;FMTTYPE=image/png:https://thederbytavern.com/wp-content/uploads/2026/04/Screenshot-2026-04-03-at-14.03.31.png
ORGANIZER;CN="The Derby Tavern":MAILTO:info@thederbytavern.com
END:VEVENT
BEGIN:VEVENT
DTSTART;TZID=America/Detroit:20270616T150000
DTEND;TZID=America/Detroit:20270616T170000
DTSTAMP:20260422T101429
CREATED:20260401T212458Z
LAST-MODIFIED:20260403T180944Z
UID:10000624-1813158000-1813165200@thederbytavern.com
SUMMARY:Unwind With Us - Wednesday Happy Hour
DESCRIPTION:Unwind With Us every Wednesday afternoon! Enjoy $1 off drafts and $2 off wine\, plus our Wednesday features: Harissa Shrimp ($14) and a Big Joe ($10).
URL:https://thederbytavern.com/event/unwind-with-us-wednesday-happy-hour/2027-06-16/
LOCATION:The Derby Tavern\, 3686 32nd Ave Ste 300\, Hudsonville\, MI\, 49426\, United States
CATEGORIES:Happy Hour
ATTACH;FMTTYPE=image/png:https://thederbytavern.com/wp-content/uploads/2026/04/Screenshot-2026-04-03-at-14.03.31.png
ORGANIZER;CN="The Derby Tavern":MAILTO:info@thederbytavern.com
END:VEVENT
BEGIN:VEVENT
DTSTART;TZID=America/Detroit:20270616T200000
DTEND;TZID=America/Detroit:20270616T220000
DTSTAMP:20260422T101429
CREATED:20260401T212703Z
LAST-MODIFIED:20260403T180904Z
UID:10000885-1813176000-1813183200@thederbytavern.com
SUMMARY:Unwind With Us - Wednesday Late Night
DESCRIPTION:Unwind With Us every Wednesday evening! Enjoy $1 off drafts and $2 off wine\, plus our Wednesday features: Harissa Shrimp ($14) and a Big Joe ($10).
URL:https://thederbytavern.com/event/unwind-with-us-wednesday-late-night/2027-06-16/
LOCATION:The Derby Tavern\, 3686 32nd Ave Ste 300\, Hudsonville\, MI\, 49426\, United States
CATEGORIES:Happy Hour
ATTACH;FMTTYPE=image/png:https://thederbytavern.com/wp-content/uploads/2026/04/Screenshot-2026-04-03-at-14.03.31.png
ORGANIZER;CN="The Derby Tavern":MAILTO:info@thederbytavern.com
END:VEVENT
BEGIN:VEVENT
DTSTART;TZID=America/Detroit:20270617T150000
DTEND;TZID=America/Detroit:20270617T170000
DTSTAMP:20260422T101429
CREATED:20260401T212759Z
LAST-MODIFIED:20260403T180750Z
UID:10001146-1813244400-1813251600@thederbytavern.com
SUMMARY:Unwind With Us - Thursday Happy Hour
DESCRIPTION:Unwind With Us every Thursday afternoon! Enjoy $1 off drafts and $2 off wine\, plus our Thursday features: Arancini ($12) and a Whirlaway Manhattan ($9).
URL:https://thederbytavern.com/event/unwind-with-us-thursday-happy-hour/2027-06-17/
LOCATION:The Derby Tavern\, 3686 32nd Ave Ste 300\, Hudsonville\, MI\, 49426\, United States
CATEGORIES:Happy Hour
ATTACH;FMTTYPE=image/png:https://thederbytavern.com/wp-content/uploads/2026/04/Screenshot-2026-04-03-at-14.03.31.png
ORGANIZER;CN="The Derby Tavern":MAILTO:info@thederbytavern.com
END:VEVENT
BEGIN:VEVENT
DTSTART;TZID=America/Detroit:20270617T200000
DTEND;TZID=America/Detroit:20270617T220000
DTSTAMP:20260422T101429
CREATED:20260401T212842Z
LAST-MODIFIED:20260402T180252Z
UID:10001407-1813262400-1813269600@thederbytavern.com
SUMMARY:Unwind With Us - Thursday Late Night
DESCRIPTION:Unwind With Us every Thursday evening! Enjoy $1 off drafts and $2 off wine\, plus our Thursday features: Arancini ($12) and a Whirlaway Manhattan ($9).
URL:https://thederbytavern.com/event/unwind-with-us-thursday-late-night/2027-06-17/
LOCATION:The Derby Tavern\, 3686 32nd Ave Ste 300\, Hudsonville\, MI\, 49426\, United States
CATEGORIES:Happy Hour
ORGANIZER;CN="The Derby Tavern":MAILTO:info@thederbytavern.com
END:VEVENT
BEGIN:VEVENT
DTSTART;TZID=America/Detroit:20270622T150000
DTEND;TZID=America/Detroit:20270622T170000
DTSTAMP:20260422T101429
CREATED:20260401T211930Z
LAST-MODIFIED:20260403T180651Z
UID:10000101-1813676400-1813683600@thederbytavern.com
SUMMARY:Unwind With Us - Tuesday Happy Hour
DESCRIPTION:Unwind With Us every Tuesday afternoon! Enjoy $1 off drafts and $2 off wine\, plus our Tuesday features: Nachos ($12) and a Mustang Margarita ($8).
URL:https://thederbytavern.com/event/unwind-with-us-tuesday-happy-hour/2027-06-22/
LOCATION:The Derby Tavern\, 3686 32nd Ave Ste 300\, Hudsonville\, MI\, 49426\, United States
CATEGORIES:Happy Hour
ATTACH;FMTTYPE=image/png:https://thederbytavern.com/wp-content/uploads/2026/04/Screenshot-2026-04-03-at-14.03.31.png
ORGANIZER;CN="The Derby Tavern":MAILTO:info@thederbytavern.com
END:VEVENT
BEGIN:VEVENT
DTSTART;TZID=America/Detroit:20270622T200000
DTEND;TZID=America/Detroit:20270622T220000
DTSTAMP:20260422T101429
CREATED:20260401T212408Z
LAST-MODIFIED:20260403T180620Z
UID:10000363-1813694400-1813701600@thederbytavern.com
SUMMARY:Unwind With Us - Tuesday Late Night
DESCRIPTION:Unwind With Us every Tuesday evening! Enjoy $1 off drafts and $2 off wine\, plus our Tuesday features: Nachos ($12) and a Mustang Margarita ($8).
URL:https://thederbytavern.com/event/unwind-with-us-tuesday-late-night/2027-06-22/
LOCATION:The Derby Tavern\, 3686 32nd Ave Ste 300\, Hudsonville\, MI\, 49426\, United States
CATEGORIES:Happy Hour
ATTACH;FMTTYPE=image/png:https://thederbytavern.com/wp-content/uploads/2026/04/Screenshot-2026-04-03-at-14.03.31.png
ORGANIZER;CN="The Derby Tavern":MAILTO:info@thederbytavern.com
END:VEVENT
BEGIN:VEVENT
DTSTART;TZID=America/Detroit:20270623T150000
DTEND;TZID=America/Detroit:20270623T170000
DTSTAMP:20260422T101429
CREATED:20260401T212458Z
LAST-MODIFIED:20260403T180944Z
UID:10000625-1813762800-1813770000@thederbytavern.com
SUMMARY:Unwind With Us - Wednesday Happy Hour
DESCRIPTION:Unwind With Us every Wednesday afternoon! Enjoy $1 off drafts and $2 off wine\, plus our Wednesday features: Harissa Shrimp ($14) and a Big Joe ($10).
URL:https://thederbytavern.com/event/unwind-with-us-wednesday-happy-hour/2027-06-23/
LOCATION:The Derby Tavern\, 3686 32nd Ave Ste 300\, Hudsonville\, MI\, 49426\, United States
CATEGORIES:Happy Hour
ATTACH;FMTTYPE=image/png:https://thederbytavern.com/wp-content/uploads/2026/04/Screenshot-2026-04-03-at-14.03.31.png
ORGANIZER;CN="The Derby Tavern":MAILTO:info@thederbytavern.com
END:VEVENT
BEGIN:VEVENT
DTSTART;TZID=America/Detroit:20270623T200000
DTEND;TZID=America/Detroit:20270623T220000
DTSTAMP:20260422T101429
CREATED:20260401T212703Z
LAST-MODIFIED:20260403T180904Z
UID:10000886-1813780800-1813788000@thederbytavern.com
SUMMARY:Unwind With Us - Wednesday Late Night
DESCRIPTION:Unwind With Us every Wednesday evening! Enjoy $1 off drafts and $2 off wine\, plus our Wednesday features: Harissa Shrimp ($14) and a Big Joe ($10).
URL:https://thederbytavern.com/event/unwind-with-us-wednesday-late-night/2027-06-23/
LOCATION:The Derby Tavern\, 3686 32nd Ave Ste 300\, Hudsonville\, MI\, 49426\, United States
CATEGORIES:Happy Hour
ATTACH;FMTTYPE=image/png:https://thederbytavern.com/wp-content/uploads/2026/04/Screenshot-2026-04-03-at-14.03.31.png
ORGANIZER;CN="The Derby Tavern":MAILTO:info@thederbytavern.com
END:VEVENT
BEGIN:VEVENT
DTSTART;TZID=America/Detroit:20270624T150000
DTEND;TZID=America/Detroit:20270624T170000
DTSTAMP:20260422T101429
CREATED:20260401T212759Z
LAST-MODIFIED:20260403T180750Z
UID:10001147-1813849200-1813856400@thederbytavern.com
SUMMARY:Unwind With Us - Thursday Happy Hour
DESCRIPTION:Unwind With Us every Thursday afternoon! Enjoy $1 off drafts and $2 off wine\, plus our Thursday features: Arancini ($12) and a Whirlaway Manhattan ($9).
URL:https://thederbytavern.com/event/unwind-with-us-thursday-happy-hour/2027-06-24/
LOCATION:The Derby Tavern\, 3686 32nd Ave Ste 300\, Hudsonville\, MI\, 49426\, United States
CATEGORIES:Happy Hour
ATTACH;FMTTYPE=image/png:https://thederbytavern.com/wp-content/uploads/2026/04/Screenshot-2026-04-03-at-14.03.31.png
ORGANIZER;CN="The Derby Tavern":MAILTO:info@thederbytavern.com
END:VEVENT
BEGIN:VEVENT
DTSTART;TZID=America/Detroit:20270624T200000
DTEND;TZID=America/Detroit:20270624T220000
DTSTAMP:20260422T101429
CREATED:20260401T212842Z
LAST-MODIFIED:20260402T180252Z
UID:10001408-1813867200-1813874400@thederbytavern.com
SUMMARY:Unwind With Us - Thursday Late Night
DESCRIPTION:Unwind With Us every Thursday evening! Enjoy $1 off drafts and $2 off wine\, plus our Thursday features: Arancini ($12) and a Whirlaway Manhattan ($9).
URL:https://thederbytavern.com/event/unwind-with-us-thursday-late-night/2027-06-24/
LOCATION:The Derby Tavern\, 3686 32nd Ave Ste 300\, Hudsonville\, MI\, 49426\, United States
CATEGORIES:Happy Hour
ORGANIZER;CN="The Derby Tavern":MAILTO:info@thederbytavern.com
END:VEVENT
BEGIN:VEVENT
DTSTART;TZID=America/Detroit:20270629T150000
DTEND;TZID=America/Detroit:20270629T170000
DTSTAMP:20260422T101429
CREATED:20260401T211930Z
LAST-MODIFIED:20260403T180651Z
UID:10000102-1814281200-1814288400@thederbytavern.com
SUMMARY:Unwind With Us - Tuesday Happy Hour
DESCRIPTION:Unwind With Us every Tuesday afternoon! Enjoy $1 off drafts and $2 off wine\, plus our Tuesday features: Nachos ($12) and a Mustang Margarita ($8).
URL:https://thederbytavern.com/event/unwind-with-us-tuesday-happy-hour/2027-06-29/
LOCATION:The Derby Tavern\, 3686 32nd Ave Ste 300\, Hudsonville\, MI\, 49426\, United States
CATEGORIES:Happy Hour
ATTACH;FMTTYPE=image/png:https://thederbytavern.com/wp-content/uploads/2026/04/Screenshot-2026-04-03-at-14.03.31.png
ORGANIZER;CN="The Derby Tavern":MAILTO:info@thederbytavern.com
END:VEVENT
BEGIN:VEVENT
DTSTART;TZID=America/Detroit:20270629T200000
DTEND;TZID=America/Detroit:20270629T220000
DTSTAMP:20260422T101429
CREATED:20260401T212408Z
LAST-MODIFIED:20260403T180620Z
UID:10000364-1814299200-1814306400@thederbytavern.com
SUMMARY:Unwind With Us - Tuesday Late Night
DESCRIPTION:Unwind With Us every Tuesday evening! Enjoy $1 off drafts and $2 off wine\, plus our Tuesday features: Nachos ($12) and a Mustang Margarita ($8).
URL:https://thederbytavern.com/event/unwind-with-us-tuesday-late-night/2027-06-29/
LOCATION:The Derby Tavern\, 3686 32nd Ave Ste 300\, Hudsonville\, MI\, 49426\, United States
CATEGORIES:Happy Hour
ATTACH;FMTTYPE=image/png:https://thederbytavern.com/wp-content/uploads/2026/04/Screenshot-2026-04-03-at-14.03.31.png
ORGANIZER;CN="The Derby Tavern":MAILTO:info@thederbytavern.com
END:VEVENT
BEGIN:VEVENT
DTSTART;TZID=America/Detroit:20270630T150000
DTEND;TZID=America/Detroit:20270630T170000
DTSTAMP:20260422T101429
CREATED:20260401T212458Z
LAST-MODIFIED:20260403T180944Z
UID:10000626-1814367600-1814374800@thederbytavern.com
SUMMARY:Unwind With Us - Wednesday Happy Hour
DESCRIPTION:Unwind With Us every Wednesday afternoon! Enjoy $1 off drafts and $2 off wine\, plus our Wednesday features: Harissa Shrimp ($14) and a Big Joe ($10).
URL:https://thederbytavern.com/event/unwind-with-us-wednesday-happy-hour/2027-06-30/
LOCATION:The Derby Tavern\, 3686 32nd Ave Ste 300\, Hudsonville\, MI\, 49426\, United States
CATEGORIES:Happy Hour
ATTACH;FMTTYPE=image/png:https://thederbytavern.com/wp-content/uploads/2026/04/Screenshot-2026-04-03-at-14.03.31.png
ORGANIZER;CN="The Derby Tavern":MAILTO:info@thederbytavern.com
END:VEVENT
BEGIN:VEVENT
DTSTART;TZID=America/Detroit:20270630T200000
DTEND;TZID=America/Detroit:20270630T220000
DTSTAMP:20260422T101429
CREATED:20260401T212703Z
LAST-MODIFIED:20260403T180904Z
UID:10000887-1814385600-1814392800@thederbytavern.com
SUMMARY:Unwind With Us - Wednesday Late Night
DESCRIPTION:Unwind With Us every Wednesday evening! Enjoy $1 off drafts and $2 off wine\, plus our Wednesday features: Harissa Shrimp ($14) and a Big Joe ($10).
URL:https://thederbytavern.com/event/unwind-with-us-wednesday-late-night/2027-06-30/
LOCATION:The Derby Tavern\, 3686 32nd Ave Ste 300\, Hudsonville\, MI\, 49426\, United States
CATEGORIES:Happy Hour
ATTACH;FMTTYPE=image/png:https://thederbytavern.com/wp-content/uploads/2026/04/Screenshot-2026-04-03-at-14.03.31.png
ORGANIZER;CN="The Derby Tavern":MAILTO:info@thederbytavern.com
END:VEVENT
BEGIN:VEVENT
DTSTART;TZID=America/Detroit:20270701T150000
DTEND;TZID=America/Detroit:20270701T170000
DTSTAMP:20260422T101429
CREATED:20260401T212759Z
LAST-MODIFIED:20260403T180750Z
UID:10001148-1814454000-1814461200@thederbytavern.com
SUMMARY:Unwind With Us - Thursday Happy Hour
DESCRIPTION:Unwind With Us every Thursday afternoon! Enjoy $1 off drafts and $2 off wine\, plus our Thursday features: Arancini ($12) and a Whirlaway Manhattan ($9).
URL:https://thederbytavern.com/event/unwind-with-us-thursday-happy-hour/2027-07-01/
LOCATION:The Derby Tavern\, 3686 32nd Ave Ste 300\, Hudsonville\, MI\, 49426\, United States
CATEGORIES:Happy Hour
ATTACH;FMTTYPE=image/png:https://thederbytavern.com/wp-content/uploads/2026/04/Screenshot-2026-04-03-at-14.03.31.png
ORGANIZER;CN="The Derby Tavern":MAILTO:info@thederbytavern.com
END:VEVENT
BEGIN:VEVENT
DTSTART;TZID=America/Detroit:20270701T200000
DTEND;TZID=America/Detroit:20270701T220000
DTSTAMP:20260422T101429
CREATED:20260401T212842Z
LAST-MODIFIED:20260402T180252Z
UID:10001409-1814472000-1814479200@thederbytavern.com
SUMMARY:Unwind With Us - Thursday Late Night
DESCRIPTION:Unwind With Us every Thursday evening! Enjoy $1 off drafts and $2 off wine\, plus our Thursday features: Arancini ($12) and a Whirlaway Manhattan ($9).
URL:https://thederbytavern.com/event/unwind-with-us-thursday-late-night/2027-07-01/
LOCATION:The Derby Tavern\, 3686 32nd Ave Ste 300\, Hudsonville\, MI\, 49426\, United States
CATEGORIES:Happy Hour
ORGANIZER;CN="The Derby Tavern":MAILTO:info@thederbytavern.com
END:VEVENT
END:VCALENDAR