BEGIN:VCALENDAR
VERSION:2.0
PRODID:-//The Derby Tavern - ECPv6.15.17//NONSGML v1.0//EN
CALSCALE:GREGORIAN
METHOD:PUBLISH
X-ORIGINAL-URL:https://thederbytavern.com
X-WR-CALDESC:Events for The Derby Tavern
REFRESH-INTERVAL;VALUE=DURATION:PT1H
X-Robots-Tag:noindex
X-PUBLISHED-TTL:PT1H
BEGIN:VTIMEZONE
TZID:America/Detroit
BEGIN:DAYLIGHT
TZOFFSETFROM:-0500
TZOFFSETTO:-0400
TZNAME:EDT
DTSTART:20260308T070000
END:DAYLIGHT
BEGIN:STANDARD
TZOFFSETFROM:-0400
TZOFFSETTO:-0500
TZNAME:EST
DTSTART:20261101T060000
END:STANDARD
BEGIN:DAYLIGHT
TZOFFSETFROM:-0500
TZOFFSETTO:-0400
TZNAME:EDT
DTSTART:20270314T070000
END:DAYLIGHT
BEGIN:STANDARD
TZOFFSETFROM:-0400
TZOFFSETTO:-0500
TZNAME:EST
DTSTART:20271107T060000
END:STANDARD
BEGIN:DAYLIGHT
TZOFFSETFROM:-0500
TZOFFSETTO:-0400
TZNAME:EDT
DTSTART:20280312T070000
END:DAYLIGHT
BEGIN:STANDARD
TZOFFSETFROM:-0400
TZOFFSETTO:-0500
TZNAME:EST
DTSTART:20281105T060000
END:STANDARD
END:VTIMEZONE
BEGIN:VEVENT
DTSTART;TZID=America/Detroit:20270304T150000
DTEND;TZID=America/Detroit:20270304T170000
DTSTAMP:20260421T135326
CREATED:20260401T212759Z
LAST-MODIFIED:20260403T180750Z
UID:10001131-1804172400-1804179600@thederbytavern.com
SUMMARY:Unwind With Us - Thursday Happy Hour
DESCRIPTION:Unwind With Us every Thursday afternoon! Enjoy $1 off drafts and $2 off wine\, plus our Thursday features: Arancini ($12) and a Whirlaway Manhattan ($9).
URL:https://thederbytavern.com/event/unwind-with-us-thursday-happy-hour/2027-03-04/
LOCATION:The Derby Tavern\, 3686 32nd Ave Ste 300\, Hudsonville\, MI\, 49426\, United States
CATEGORIES:Happy Hour
ATTACH;FMTTYPE=image/png:https://thederbytavern.com/wp-content/uploads/2026/04/Screenshot-2026-04-03-at-14.03.31.png
ORGANIZER;CN="The Derby Tavern":MAILTO:info@thederbytavern.com
END:VEVENT
BEGIN:VEVENT
DTSTART;TZID=America/Detroit:20270304T200000
DTEND;TZID=America/Detroit:20270304T220000
DTSTAMP:20260421T135326
CREATED:20260401T212842Z
LAST-MODIFIED:20260402T180252Z
UID:10001392-1804190400-1804197600@thederbytavern.com
SUMMARY:Unwind With Us - Thursday Late Night
DESCRIPTION:Unwind With Us every Thursday evening! Enjoy $1 off drafts and $2 off wine\, plus our Thursday features: Arancini ($12) and a Whirlaway Manhattan ($9).
URL:https://thederbytavern.com/event/unwind-with-us-thursday-late-night/2027-03-04/
LOCATION:The Derby Tavern\, 3686 32nd Ave Ste 300\, Hudsonville\, MI\, 49426\, United States
CATEGORIES:Happy Hour
ORGANIZER;CN="The Derby Tavern":MAILTO:info@thederbytavern.com
END:VEVENT
BEGIN:VEVENT
DTSTART;TZID=America/Detroit:20270309T150000
DTEND;TZID=America/Detroit:20270309T170000
DTSTAMP:20260421T135326
CREATED:20260401T211930Z
LAST-MODIFIED:20260403T180651Z
UID:10000086-1804604400-1804611600@thederbytavern.com
SUMMARY:Unwind With Us - Tuesday Happy Hour
DESCRIPTION:Unwind With Us every Tuesday afternoon! Enjoy $1 off drafts and $2 off wine\, plus our Tuesday features: Nachos ($12) and a Mustang Margarita ($8).
URL:https://thederbytavern.com/event/unwind-with-us-tuesday-happy-hour/2027-03-09/
LOCATION:The Derby Tavern\, 3686 32nd Ave Ste 300\, Hudsonville\, MI\, 49426\, United States
CATEGORIES:Happy Hour
ATTACH;FMTTYPE=image/png:https://thederbytavern.com/wp-content/uploads/2026/04/Screenshot-2026-04-03-at-14.03.31.png
ORGANIZER;CN="The Derby Tavern":MAILTO:info@thederbytavern.com
END:VEVENT
BEGIN:VEVENT
DTSTART;TZID=America/Detroit:20270309T200000
DTEND;TZID=America/Detroit:20270309T220000
DTSTAMP:20260421T135326
CREATED:20260401T212408Z
LAST-MODIFIED:20260403T180620Z
UID:10000348-1804622400-1804629600@thederbytavern.com
SUMMARY:Unwind With Us - Tuesday Late Night
DESCRIPTION:Unwind With Us every Tuesday evening! Enjoy $1 off drafts and $2 off wine\, plus our Tuesday features: Nachos ($12) and a Mustang Margarita ($8).
URL:https://thederbytavern.com/event/unwind-with-us-tuesday-late-night/2027-03-09/
LOCATION:The Derby Tavern\, 3686 32nd Ave Ste 300\, Hudsonville\, MI\, 49426\, United States
CATEGORIES:Happy Hour
ATTACH;FMTTYPE=image/png:https://thederbytavern.com/wp-content/uploads/2026/04/Screenshot-2026-04-03-at-14.03.31.png
ORGANIZER;CN="The Derby Tavern":MAILTO:info@thederbytavern.com
END:VEVENT
BEGIN:VEVENT
DTSTART;TZID=America/Detroit:20270310T150000
DTEND;TZID=America/Detroit:20270310T170000
DTSTAMP:20260421T135326
CREATED:20260401T212458Z
LAST-MODIFIED:20260403T180944Z
UID:10000610-1804690800-1804698000@thederbytavern.com
SUMMARY:Unwind With Us - Wednesday Happy Hour
DESCRIPTION:Unwind With Us every Wednesday afternoon! Enjoy $1 off drafts and $2 off wine\, plus our Wednesday features: Harissa Shrimp ($14) and a Big Joe ($10).
URL:https://thederbytavern.com/event/unwind-with-us-wednesday-happy-hour/2027-03-10/
LOCATION:The Derby Tavern\, 3686 32nd Ave Ste 300\, Hudsonville\, MI\, 49426\, United States
CATEGORIES:Happy Hour
ATTACH;FMTTYPE=image/png:https://thederbytavern.com/wp-content/uploads/2026/04/Screenshot-2026-04-03-at-14.03.31.png
ORGANIZER;CN="The Derby Tavern":MAILTO:info@thederbytavern.com
END:VEVENT
BEGIN:VEVENT
DTSTART;TZID=America/Detroit:20270310T200000
DTEND;TZID=America/Detroit:20270310T220000
DTSTAMP:20260421T135326
CREATED:20260401T212703Z
LAST-MODIFIED:20260403T180904Z
UID:10000871-1804708800-1804716000@thederbytavern.com
SUMMARY:Unwind With Us - Wednesday Late Night
DESCRIPTION:Unwind With Us every Wednesday evening! Enjoy $1 off drafts and $2 off wine\, plus our Wednesday features: Harissa Shrimp ($14) and a Big Joe ($10).
URL:https://thederbytavern.com/event/unwind-with-us-wednesday-late-night/2027-03-10/
LOCATION:The Derby Tavern\, 3686 32nd Ave Ste 300\, Hudsonville\, MI\, 49426\, United States
CATEGORIES:Happy Hour
ATTACH;FMTTYPE=image/png:https://thederbytavern.com/wp-content/uploads/2026/04/Screenshot-2026-04-03-at-14.03.31.png
ORGANIZER;CN="The Derby Tavern":MAILTO:info@thederbytavern.com
END:VEVENT
BEGIN:VEVENT
DTSTART;TZID=America/Detroit:20270311T150000
DTEND;TZID=America/Detroit:20270311T170000
DTSTAMP:20260421T135326
CREATED:20260401T212759Z
LAST-MODIFIED:20260403T180750Z
UID:10001132-1804777200-1804784400@thederbytavern.com
SUMMARY:Unwind With Us - Thursday Happy Hour
DESCRIPTION:Unwind With Us every Thursday afternoon! Enjoy $1 off drafts and $2 off wine\, plus our Thursday features: Arancini ($12) and a Whirlaway Manhattan ($9).
URL:https://thederbytavern.com/event/unwind-with-us-thursday-happy-hour/2027-03-11/
LOCATION:The Derby Tavern\, 3686 32nd Ave Ste 300\, Hudsonville\, MI\, 49426\, United States
CATEGORIES:Happy Hour
ATTACH;FMTTYPE=image/png:https://thederbytavern.com/wp-content/uploads/2026/04/Screenshot-2026-04-03-at-14.03.31.png
ORGANIZER;CN="The Derby Tavern":MAILTO:info@thederbytavern.com
END:VEVENT
BEGIN:VEVENT
DTSTART;TZID=America/Detroit:20270311T200000
DTEND;TZID=America/Detroit:20270311T220000
DTSTAMP:20260421T135326
CREATED:20260401T212842Z
LAST-MODIFIED:20260402T180252Z
UID:10001393-1804795200-1804802400@thederbytavern.com
SUMMARY:Unwind With Us - Thursday Late Night
DESCRIPTION:Unwind With Us every Thursday evening! Enjoy $1 off drafts and $2 off wine\, plus our Thursday features: Arancini ($12) and a Whirlaway Manhattan ($9).
URL:https://thederbytavern.com/event/unwind-with-us-thursday-late-night/2027-03-11/
LOCATION:The Derby Tavern\, 3686 32nd Ave Ste 300\, Hudsonville\, MI\, 49426\, United States
CATEGORIES:Happy Hour
ORGANIZER;CN="The Derby Tavern":MAILTO:info@thederbytavern.com
END:VEVENT
BEGIN:VEVENT
DTSTART;TZID=America/Detroit:20270316T150000
DTEND;TZID=America/Detroit:20270316T170000
DTSTAMP:20260421T135326
CREATED:20260401T211930Z
LAST-MODIFIED:20260403T180651Z
UID:10000087-1805209200-1805216400@thederbytavern.com
SUMMARY:Unwind With Us - Tuesday Happy Hour
DESCRIPTION:Unwind With Us every Tuesday afternoon! Enjoy $1 off drafts and $2 off wine\, plus our Tuesday features: Nachos ($12) and a Mustang Margarita ($8).
URL:https://thederbytavern.com/event/unwind-with-us-tuesday-happy-hour/2027-03-16/
LOCATION:The Derby Tavern\, 3686 32nd Ave Ste 300\, Hudsonville\, MI\, 49426\, United States
CATEGORIES:Happy Hour
ATTACH;FMTTYPE=image/png:https://thederbytavern.com/wp-content/uploads/2026/04/Screenshot-2026-04-03-at-14.03.31.png
ORGANIZER;CN="The Derby Tavern":MAILTO:info@thederbytavern.com
END:VEVENT
BEGIN:VEVENT
DTSTART;TZID=America/Detroit:20270316T200000
DTEND;TZID=America/Detroit:20270316T220000
DTSTAMP:20260421T135326
CREATED:20260401T212408Z
LAST-MODIFIED:20260403T180620Z
UID:10000349-1805227200-1805234400@thederbytavern.com
SUMMARY:Unwind With Us - Tuesday Late Night
DESCRIPTION:Unwind With Us every Tuesday evening! Enjoy $1 off drafts and $2 off wine\, plus our Tuesday features: Nachos ($12) and a Mustang Margarita ($8).
URL:https://thederbytavern.com/event/unwind-with-us-tuesday-late-night/2027-03-16/
LOCATION:The Derby Tavern\, 3686 32nd Ave Ste 300\, Hudsonville\, MI\, 49426\, United States
CATEGORIES:Happy Hour
ATTACH;FMTTYPE=image/png:https://thederbytavern.com/wp-content/uploads/2026/04/Screenshot-2026-04-03-at-14.03.31.png
ORGANIZER;CN="The Derby Tavern":MAILTO:info@thederbytavern.com
END:VEVENT
BEGIN:VEVENT
DTSTART;TZID=America/Detroit:20270317T150000
DTEND;TZID=America/Detroit:20270317T170000
DTSTAMP:20260421T135326
CREATED:20260401T212458Z
LAST-MODIFIED:20260403T180944Z
UID:10000611-1805295600-1805302800@thederbytavern.com
SUMMARY:Unwind With Us - Wednesday Happy Hour
DESCRIPTION:Unwind With Us every Wednesday afternoon! Enjoy $1 off drafts and $2 off wine\, plus our Wednesday features: Harissa Shrimp ($14) and a Big Joe ($10).
URL:https://thederbytavern.com/event/unwind-with-us-wednesday-happy-hour/2027-03-17/
LOCATION:The Derby Tavern\, 3686 32nd Ave Ste 300\, Hudsonville\, MI\, 49426\, United States
CATEGORIES:Happy Hour
ATTACH;FMTTYPE=image/png:https://thederbytavern.com/wp-content/uploads/2026/04/Screenshot-2026-04-03-at-14.03.31.png
ORGANIZER;CN="The Derby Tavern":MAILTO:info@thederbytavern.com
END:VEVENT
BEGIN:VEVENT
DTSTART;TZID=America/Detroit:20270317T200000
DTEND;TZID=America/Detroit:20270317T220000
DTSTAMP:20260421T135326
CREATED:20260401T212703Z
LAST-MODIFIED:20260403T180904Z
UID:10000872-1805313600-1805320800@thederbytavern.com
SUMMARY:Unwind With Us - Wednesday Late Night
DESCRIPTION:Unwind With Us every Wednesday evening! Enjoy $1 off drafts and $2 off wine\, plus our Wednesday features: Harissa Shrimp ($14) and a Big Joe ($10).
URL:https://thederbytavern.com/event/unwind-with-us-wednesday-late-night/2027-03-17/
LOCATION:The Derby Tavern\, 3686 32nd Ave Ste 300\, Hudsonville\, MI\, 49426\, United States
CATEGORIES:Happy Hour
ATTACH;FMTTYPE=image/png:https://thederbytavern.com/wp-content/uploads/2026/04/Screenshot-2026-04-03-at-14.03.31.png
ORGANIZER;CN="The Derby Tavern":MAILTO:info@thederbytavern.com
END:VEVENT
BEGIN:VEVENT
DTSTART;TZID=America/Detroit:20270318T150000
DTEND;TZID=America/Detroit:20270318T170000
DTSTAMP:20260421T135326
CREATED:20260401T212759Z
LAST-MODIFIED:20260403T180750Z
UID:10001133-1805382000-1805389200@thederbytavern.com
SUMMARY:Unwind With Us - Thursday Happy Hour
DESCRIPTION:Unwind With Us every Thursday afternoon! Enjoy $1 off drafts and $2 off wine\, plus our Thursday features: Arancini ($12) and a Whirlaway Manhattan ($9).
URL:https://thederbytavern.com/event/unwind-with-us-thursday-happy-hour/2027-03-18/
LOCATION:The Derby Tavern\, 3686 32nd Ave Ste 300\, Hudsonville\, MI\, 49426\, United States
CATEGORIES:Happy Hour
ATTACH;FMTTYPE=image/png:https://thederbytavern.com/wp-content/uploads/2026/04/Screenshot-2026-04-03-at-14.03.31.png
ORGANIZER;CN="The Derby Tavern":MAILTO:info@thederbytavern.com
END:VEVENT
BEGIN:VEVENT
DTSTART;TZID=America/Detroit:20270318T200000
DTEND;TZID=America/Detroit:20270318T220000
DTSTAMP:20260421T135326
CREATED:20260401T212842Z
LAST-MODIFIED:20260402T180252Z
UID:10001394-1805400000-1805407200@thederbytavern.com
SUMMARY:Unwind With Us - Thursday Late Night
DESCRIPTION:Unwind With Us every Thursday evening! Enjoy $1 off drafts and $2 off wine\, plus our Thursday features: Arancini ($12) and a Whirlaway Manhattan ($9).
URL:https://thederbytavern.com/event/unwind-with-us-thursday-late-night/2027-03-18/
LOCATION:The Derby Tavern\, 3686 32nd Ave Ste 300\, Hudsonville\, MI\, 49426\, United States
CATEGORIES:Happy Hour
ORGANIZER;CN="The Derby Tavern":MAILTO:info@thederbytavern.com
END:VEVENT
BEGIN:VEVENT
DTSTART;TZID=America/Detroit:20270323T150000
DTEND;TZID=America/Detroit:20270323T170000
DTSTAMP:20260421T135326
CREATED:20260401T211930Z
LAST-MODIFIED:20260403T180651Z
UID:10000088-1805814000-1805821200@thederbytavern.com
SUMMARY:Unwind With Us - Tuesday Happy Hour
DESCRIPTION:Unwind With Us every Tuesday afternoon! Enjoy $1 off drafts and $2 off wine\, plus our Tuesday features: Nachos ($12) and a Mustang Margarita ($8).
URL:https://thederbytavern.com/event/unwind-with-us-tuesday-happy-hour/2027-03-23/
LOCATION:The Derby Tavern\, 3686 32nd Ave Ste 300\, Hudsonville\, MI\, 49426\, United States
CATEGORIES:Happy Hour
ATTACH;FMTTYPE=image/png:https://thederbytavern.com/wp-content/uploads/2026/04/Screenshot-2026-04-03-at-14.03.31.png
ORGANIZER;CN="The Derby Tavern":MAILTO:info@thederbytavern.com
END:VEVENT
BEGIN:VEVENT
DTSTART;TZID=America/Detroit:20270323T200000
DTEND;TZID=America/Detroit:20270323T220000
DTSTAMP:20260421T135326
CREATED:20260401T212408Z
LAST-MODIFIED:20260403T180620Z
UID:10000350-1805832000-1805839200@thederbytavern.com
SUMMARY:Unwind With Us - Tuesday Late Night
DESCRIPTION:Unwind With Us every Tuesday evening! Enjoy $1 off drafts and $2 off wine\, plus our Tuesday features: Nachos ($12) and a Mustang Margarita ($8).
URL:https://thederbytavern.com/event/unwind-with-us-tuesday-late-night/2027-03-23/
LOCATION:The Derby Tavern\, 3686 32nd Ave Ste 300\, Hudsonville\, MI\, 49426\, United States
CATEGORIES:Happy Hour
ATTACH;FMTTYPE=image/png:https://thederbytavern.com/wp-content/uploads/2026/04/Screenshot-2026-04-03-at-14.03.31.png
ORGANIZER;CN="The Derby Tavern":MAILTO:info@thederbytavern.com
END:VEVENT
BEGIN:VEVENT
DTSTART;TZID=America/Detroit:20270324T150000
DTEND;TZID=America/Detroit:20270324T170000
DTSTAMP:20260421T135326
CREATED:20260401T212458Z
LAST-MODIFIED:20260403T180944Z
UID:10000612-1805900400-1805907600@thederbytavern.com
SUMMARY:Unwind With Us - Wednesday Happy Hour
DESCRIPTION:Unwind With Us every Wednesday afternoon! Enjoy $1 off drafts and $2 off wine\, plus our Wednesday features: Harissa Shrimp ($14) and a Big Joe ($10).
URL:https://thederbytavern.com/event/unwind-with-us-wednesday-happy-hour/2027-03-24/
LOCATION:The Derby Tavern\, 3686 32nd Ave Ste 300\, Hudsonville\, MI\, 49426\, United States
CATEGORIES:Happy Hour
ATTACH;FMTTYPE=image/png:https://thederbytavern.com/wp-content/uploads/2026/04/Screenshot-2026-04-03-at-14.03.31.png
ORGANIZER;CN="The Derby Tavern":MAILTO:info@thederbytavern.com
END:VEVENT
BEGIN:VEVENT
DTSTART;TZID=America/Detroit:20270324T200000
DTEND;TZID=America/Detroit:20270324T220000
DTSTAMP:20260421T135326
CREATED:20260401T212703Z
LAST-MODIFIED:20260403T180904Z
UID:10000873-1805918400-1805925600@thederbytavern.com
SUMMARY:Unwind With Us - Wednesday Late Night
DESCRIPTION:Unwind With Us every Wednesday evening! Enjoy $1 off drafts and $2 off wine\, plus our Wednesday features: Harissa Shrimp ($14) and a Big Joe ($10).
URL:https://thederbytavern.com/event/unwind-with-us-wednesday-late-night/2027-03-24/
LOCATION:The Derby Tavern\, 3686 32nd Ave Ste 300\, Hudsonville\, MI\, 49426\, United States
CATEGORIES:Happy Hour
ATTACH;FMTTYPE=image/png:https://thederbytavern.com/wp-content/uploads/2026/04/Screenshot-2026-04-03-at-14.03.31.png
ORGANIZER;CN="The Derby Tavern":MAILTO:info@thederbytavern.com
END:VEVENT
BEGIN:VEVENT
DTSTART;TZID=America/Detroit:20270325T150000
DTEND;TZID=America/Detroit:20270325T170000
DTSTAMP:20260421T135326
CREATED:20260401T212759Z
LAST-MODIFIED:20260403T180750Z
UID:10001134-1805986800-1805994000@thederbytavern.com
SUMMARY:Unwind With Us - Thursday Happy Hour
DESCRIPTION:Unwind With Us every Thursday afternoon! Enjoy $1 off drafts and $2 off wine\, plus our Thursday features: Arancini ($12) and a Whirlaway Manhattan ($9).
URL:https://thederbytavern.com/event/unwind-with-us-thursday-happy-hour/2027-03-25/
LOCATION:The Derby Tavern\, 3686 32nd Ave Ste 300\, Hudsonville\, MI\, 49426\, United States
CATEGORIES:Happy Hour
ATTACH;FMTTYPE=image/png:https://thederbytavern.com/wp-content/uploads/2026/04/Screenshot-2026-04-03-at-14.03.31.png
ORGANIZER;CN="The Derby Tavern":MAILTO:info@thederbytavern.com
END:VEVENT
BEGIN:VEVENT
DTSTART;TZID=America/Detroit:20270325T200000
DTEND;TZID=America/Detroit:20270325T220000
DTSTAMP:20260421T135326
CREATED:20260401T212842Z
LAST-MODIFIED:20260402T180252Z
UID:10001395-1806004800-1806012000@thederbytavern.com
SUMMARY:Unwind With Us - Thursday Late Night
DESCRIPTION:Unwind With Us every Thursday evening! Enjoy $1 off drafts and $2 off wine\, plus our Thursday features: Arancini ($12) and a Whirlaway Manhattan ($9).
URL:https://thederbytavern.com/event/unwind-with-us-thursday-late-night/2027-03-25/
LOCATION:The Derby Tavern\, 3686 32nd Ave Ste 300\, Hudsonville\, MI\, 49426\, United States
CATEGORIES:Happy Hour
ORGANIZER;CN="The Derby Tavern":MAILTO:info@thederbytavern.com
END:VEVENT
BEGIN:VEVENT
DTSTART;TZID=America/Detroit:20270330T150000
DTEND;TZID=America/Detroit:20270330T170000
DTSTAMP:20260421T135326
CREATED:20260401T211930Z
LAST-MODIFIED:20260403T180651Z
UID:10000089-1806418800-1806426000@thederbytavern.com
SUMMARY:Unwind With Us - Tuesday Happy Hour
DESCRIPTION:Unwind With Us every Tuesday afternoon! Enjoy $1 off drafts and $2 off wine\, plus our Tuesday features: Nachos ($12) and a Mustang Margarita ($8).
URL:https://thederbytavern.com/event/unwind-with-us-tuesday-happy-hour/2027-03-30/
LOCATION:The Derby Tavern\, 3686 32nd Ave Ste 300\, Hudsonville\, MI\, 49426\, United States
CATEGORIES:Happy Hour
ATTACH;FMTTYPE=image/png:https://thederbytavern.com/wp-content/uploads/2026/04/Screenshot-2026-04-03-at-14.03.31.png
ORGANIZER;CN="The Derby Tavern":MAILTO:info@thederbytavern.com
END:VEVENT
BEGIN:VEVENT
DTSTART;TZID=America/Detroit:20270330T200000
DTEND;TZID=America/Detroit:20270330T220000
DTSTAMP:20260421T135326
CREATED:20260401T212408Z
LAST-MODIFIED:20260403T180620Z
UID:10000351-1806436800-1806444000@thederbytavern.com
SUMMARY:Unwind With Us - Tuesday Late Night
DESCRIPTION:Unwind With Us every Tuesday evening! Enjoy $1 off drafts and $2 off wine\, plus our Tuesday features: Nachos ($12) and a Mustang Margarita ($8).
URL:https://thederbytavern.com/event/unwind-with-us-tuesday-late-night/2027-03-30/
LOCATION:The Derby Tavern\, 3686 32nd Ave Ste 300\, Hudsonville\, MI\, 49426\, United States
CATEGORIES:Happy Hour
ATTACH;FMTTYPE=image/png:https://thederbytavern.com/wp-content/uploads/2026/04/Screenshot-2026-04-03-at-14.03.31.png
ORGANIZER;CN="The Derby Tavern":MAILTO:info@thederbytavern.com
END:VEVENT
BEGIN:VEVENT
DTSTART;TZID=America/Detroit:20270331T150000
DTEND;TZID=America/Detroit:20270331T170000
DTSTAMP:20260421T135326
CREATED:20260401T212458Z
LAST-MODIFIED:20260403T180944Z
UID:10000613-1806505200-1806512400@thederbytavern.com
SUMMARY:Unwind With Us - Wednesday Happy Hour
DESCRIPTION:Unwind With Us every Wednesday afternoon! Enjoy $1 off drafts and $2 off wine\, plus our Wednesday features: Harissa Shrimp ($14) and a Big Joe ($10).
URL:https://thederbytavern.com/event/unwind-with-us-wednesday-happy-hour/2027-03-31/
LOCATION:The Derby Tavern\, 3686 32nd Ave Ste 300\, Hudsonville\, MI\, 49426\, United States
CATEGORIES:Happy Hour
ATTACH;FMTTYPE=image/png:https://thederbytavern.com/wp-content/uploads/2026/04/Screenshot-2026-04-03-at-14.03.31.png
ORGANIZER;CN="The Derby Tavern":MAILTO:info@thederbytavern.com
END:VEVENT
BEGIN:VEVENT
DTSTART;TZID=America/Detroit:20270331T200000
DTEND;TZID=America/Detroit:20270331T220000
DTSTAMP:20260421T135326
CREATED:20260401T212703Z
LAST-MODIFIED:20260403T180904Z
UID:10000874-1806523200-1806530400@thederbytavern.com
SUMMARY:Unwind With Us - Wednesday Late Night
DESCRIPTION:Unwind With Us every Wednesday evening! Enjoy $1 off drafts and $2 off wine\, plus our Wednesday features: Harissa Shrimp ($14) and a Big Joe ($10).
URL:https://thederbytavern.com/event/unwind-with-us-wednesday-late-night/2027-03-31/
LOCATION:The Derby Tavern\, 3686 32nd Ave Ste 300\, Hudsonville\, MI\, 49426\, United States
CATEGORIES:Happy Hour
ATTACH;FMTTYPE=image/png:https://thederbytavern.com/wp-content/uploads/2026/04/Screenshot-2026-04-03-at-14.03.31.png
ORGANIZER;CN="The Derby Tavern":MAILTO:info@thederbytavern.com
END:VEVENT
BEGIN:VEVENT
DTSTART;TZID=America/Detroit:20270401T150000
DTEND;TZID=America/Detroit:20270401T170000
DTSTAMP:20260421T135326
CREATED:20260401T212759Z
LAST-MODIFIED:20260403T180750Z
UID:10001135-1806591600-1806598800@thederbytavern.com
SUMMARY:Unwind With Us - Thursday Happy Hour
DESCRIPTION:Unwind With Us every Thursday afternoon! Enjoy $1 off drafts and $2 off wine\, plus our Thursday features: Arancini ($12) and a Whirlaway Manhattan ($9).
URL:https://thederbytavern.com/event/unwind-with-us-thursday-happy-hour/2027-04-01/
LOCATION:The Derby Tavern\, 3686 32nd Ave Ste 300\, Hudsonville\, MI\, 49426\, United States
CATEGORIES:Happy Hour
ATTACH;FMTTYPE=image/png:https://thederbytavern.com/wp-content/uploads/2026/04/Screenshot-2026-04-03-at-14.03.31.png
ORGANIZER;CN="The Derby Tavern":MAILTO:info@thederbytavern.com
END:VEVENT
BEGIN:VEVENT
DTSTART;TZID=America/Detroit:20270401T200000
DTEND;TZID=America/Detroit:20270401T220000
DTSTAMP:20260421T135326
CREATED:20260401T212842Z
LAST-MODIFIED:20260402T180252Z
UID:10001396-1806609600-1806616800@thederbytavern.com
SUMMARY:Unwind With Us - Thursday Late Night
DESCRIPTION:Unwind With Us every Thursday evening! Enjoy $1 off drafts and $2 off wine\, plus our Thursday features: Arancini ($12) and a Whirlaway Manhattan ($9).
URL:https://thederbytavern.com/event/unwind-with-us-thursday-late-night/2027-04-01/
LOCATION:The Derby Tavern\, 3686 32nd Ave Ste 300\, Hudsonville\, MI\, 49426\, United States
CATEGORIES:Happy Hour
ORGANIZER;CN="The Derby Tavern":MAILTO:info@thederbytavern.com
END:VEVENT
BEGIN:VEVENT
DTSTART;TZID=America/Detroit:20270406T150000
DTEND;TZID=America/Detroit:20270406T170000
DTSTAMP:20260421T135326
CREATED:20260401T211930Z
LAST-MODIFIED:20260403T180651Z
UID:10000090-1807023600-1807030800@thederbytavern.com
SUMMARY:Unwind With Us - Tuesday Happy Hour
DESCRIPTION:Unwind With Us every Tuesday afternoon! Enjoy $1 off drafts and $2 off wine\, plus our Tuesday features: Nachos ($12) and a Mustang Margarita ($8).
URL:https://thederbytavern.com/event/unwind-with-us-tuesday-happy-hour/2027-04-06/
LOCATION:The Derby Tavern\, 3686 32nd Ave Ste 300\, Hudsonville\, MI\, 49426\, United States
CATEGORIES:Happy Hour
ATTACH;FMTTYPE=image/png:https://thederbytavern.com/wp-content/uploads/2026/04/Screenshot-2026-04-03-at-14.03.31.png
ORGANIZER;CN="The Derby Tavern":MAILTO:info@thederbytavern.com
END:VEVENT
BEGIN:VEVENT
DTSTART;TZID=America/Detroit:20270406T200000
DTEND;TZID=America/Detroit:20270406T220000
DTSTAMP:20260421T135326
CREATED:20260401T212408Z
LAST-MODIFIED:20260403T180620Z
UID:10000352-1807041600-1807048800@thederbytavern.com
SUMMARY:Unwind With Us - Tuesday Late Night
DESCRIPTION:Unwind With Us every Tuesday evening! Enjoy $1 off drafts and $2 off wine\, plus our Tuesday features: Nachos ($12) and a Mustang Margarita ($8).
URL:https://thederbytavern.com/event/unwind-with-us-tuesday-late-night/2027-04-06/
LOCATION:The Derby Tavern\, 3686 32nd Ave Ste 300\, Hudsonville\, MI\, 49426\, United States
CATEGORIES:Happy Hour
ATTACH;FMTTYPE=image/png:https://thederbytavern.com/wp-content/uploads/2026/04/Screenshot-2026-04-03-at-14.03.31.png
ORGANIZER;CN="The Derby Tavern":MAILTO:info@thederbytavern.com
END:VEVENT
BEGIN:VEVENT
DTSTART;TZID=America/Detroit:20270407T150000
DTEND;TZID=America/Detroit:20270407T170000
DTSTAMP:20260421T135326
CREATED:20260401T212458Z
LAST-MODIFIED:20260403T180944Z
UID:10000614-1807110000-1807117200@thederbytavern.com
SUMMARY:Unwind With Us - Wednesday Happy Hour
DESCRIPTION:Unwind With Us every Wednesday afternoon! Enjoy $1 off drafts and $2 off wine\, plus our Wednesday features: Harissa Shrimp ($14) and a Big Joe ($10).
URL:https://thederbytavern.com/event/unwind-with-us-wednesday-happy-hour/2027-04-07/
LOCATION:The Derby Tavern\, 3686 32nd Ave Ste 300\, Hudsonville\, MI\, 49426\, United States
CATEGORIES:Happy Hour
ATTACH;FMTTYPE=image/png:https://thederbytavern.com/wp-content/uploads/2026/04/Screenshot-2026-04-03-at-14.03.31.png
ORGANIZER;CN="The Derby Tavern":MAILTO:info@thederbytavern.com
END:VEVENT
BEGIN:VEVENT
DTSTART;TZID=America/Detroit:20270407T200000
DTEND;TZID=America/Detroit:20270407T220000
DTSTAMP:20260421T135326
CREATED:20260401T212703Z
LAST-MODIFIED:20260403T180904Z
UID:10000875-1807128000-1807135200@thederbytavern.com
SUMMARY:Unwind With Us - Wednesday Late Night
DESCRIPTION:Unwind With Us every Wednesday evening! Enjoy $1 off drafts and $2 off wine\, plus our Wednesday features: Harissa Shrimp ($14) and a Big Joe ($10).
URL:https://thederbytavern.com/event/unwind-with-us-wednesday-late-night/2027-04-07/
LOCATION:The Derby Tavern\, 3686 32nd Ave Ste 300\, Hudsonville\, MI\, 49426\, United States
CATEGORIES:Happy Hour
ATTACH;FMTTYPE=image/png:https://thederbytavern.com/wp-content/uploads/2026/04/Screenshot-2026-04-03-at-14.03.31.png
ORGANIZER;CN="The Derby Tavern":MAILTO:info@thederbytavern.com
END:VEVENT
END:VCALENDAR